BEGIN:VCALENDAR
VERSION:2.0
PRODID:-//ChamberMaster//Event Calendar 2.0//EN
METHOD:PUBLISH
X-PUBLISHED-TTL:P3D
REFRESH-INTERVAL:P3D
CALSCALE:GREGORIAN
BEGIN:VEVENT
DTSTART:20190724T133000Z
DTEND:20190725T170000Z
X-MICROSOFT-CDO-ALLDAYEVENT:FALSE
SUMMARY:Strategies for Grant Writing
DESCRIPTION:Part I: Grant Seeking course focuses on identifying funding opportunities for your organization. Part II: Proposal Development course focuses on how to develop a funding proposal once you have identified a funding opportunity.
X-ALT-DESC;FMTTYPE=text/html:Part I: Grant Seeking course focuses on identifying funding opportunities for your organization. Part II: Proposal Development course focuses on how to develop a funding proposal once you have identified a funding opportunity.
LOCATION:Manitowoc Campus\, Founder's Hall\, Room F194
UID:e.361.14429
SEQUENCE:3
DTSTAMP:20260425T181424Z
URL:https://business.chambermanitowoccounty.org/events/details/strategies-for-grant-writing-14429
END:VEVENT

END:VCALENDAR
