BEGIN:VCALENDAR
VERSION:2.0
PRODID:-//ChamberMaster//Event Calendar 2.0//EN
METHOD:PUBLISH
X-PUBLISHED-TTL:P3D
REFRESH-INTERVAL:P3D
CALSCALE:GREGORIAN
BEGIN:VEVENT
DTSTART:20190816T220000Z
DTEND:20190817T030000Z
X-MICROSOFT-CDO-ALLDAYEVENT:FALSE
SUMMARY:Sub Pub Reservation- Lakeshore Balloon Glow 2019
DESCRIPTION:Reservation- Sub Pub Wisconsin Maritime Museum \n\nLakeshore Balloon Glow\n\n5:00-10:00 pm\n\n\n\nReserve a VIP spot at the Sub Pub on the rooftop of the Wisconsin Maritime Museum! Enjoy a fabulous view\, light appetizers & a cash bar for $10 per person!   Advanced Tickets only! No walk ins allowed!  Register here or call The Chamber at (920) 684-5575 to reserve your rooftop spot at the Sub Pub!
X-ALT-DESC;FMTTYPE=text/html:<strong>Reservation- Sub Pub Wisconsin Maritime Museum&nbsp\;<br />\nLakeshore Balloon Glow<br />\n5:00-10:00 pm<br />\n<br />\nReserve a VIP spot at the Sub Pub on the rooftop of the Wisconsin Maritime Museum! Enjoy a fabulous view\, light appetizers &amp\; a cash bar for&nbsp\;<span style="color: rgb(51\, 51\, 51)\; font-family: sans-serif\, Arial\, Verdana\, &quot\;Trebuchet MS&quot\;\; font-size: 13px\; background-color: rgb(255\, 255\, 255)\;">$10 per person!&nbsp\; &nbsp\;Advanced Tickets only! No walk ins allowed!</span>&nbsp\; Register here or call The Chamber at (920) 684-5575 to reserve your rooftop spot at the Sub Pub!</strong><br />\n&nbsp\;
LOCATION:Sub Pub rooftop of Wisconsin Maritime Museum 75 Maritime Dr.\, Manitowoc
UID:e.361.14443
SEQUENCE:3
DTSTAMP:20260425T181531Z
URL:https://business.chambermanitowoccounty.org/events/details/sub-pub-reservation-lakeshore-balloon-glow-2019-14443
END:VEVENT

END:VCALENDAR
