BEGIN:VCALENDAR
VERSION:2.0
PRODID:-//ChamberMaster//Event Calendar 2.0//EN
METHOD:PUBLISH
X-PUBLISHED-TTL:P3D
REFRESH-INTERVAL:P3D
CALSCALE:GREGORIAN
BEGIN:VEVENT
DTSTART:20210820T220000Z
DTEND:20210821T030000Z
X-MICROSOFT-CDO-ALLDAYEVENT:FALSE
SUMMARY:Sub Pub Reservation- Lakeshore Balloon Glow 2021
DESCRIPTION:We are at capacity for the Sub Pub and are no longer accepting registrations.\n\n\n\nReservation- Sub Pub Wisconsin Maritime Museum \nLakeshore Balloon Glow\n\n5:00-10:00 pm\n\n\n\nReserve a VIP spot at the Sub Pub on the rooftop of the Wisconsin Maritime Museum! Enjoy a fabulous view with a cash bar for $10 per person!   Advanced Tickets only! No walk ins allowed!  Register here or call The Chamber at (920) 684-5575 to reserve your rooftop spot at the Sub Pub!
X-ALT-DESC;FMTTYPE=text/html:<h4><strong><span style="color:#FF0000\;"><em>We are at capacity for the Sub Pub and are no longer accepting registrations.</em></span><br />\n<br />\nReservation- Sub Pub Wisconsin Maritime Museum&nbsp\;</strong></h4>\n<strong>Lakeshore Balloon Glow<br />\n5:00-10:00 pm<br />\n<br />\nReserve a VIP spot at the Sub Pub on the rooftop of the Wisconsin Maritime Museum! Enjoy a fabulous view with a cash bar for&nbsp\;<span background-color:="" font-size:="" style="color: rgb(51\, 51\, 51)\; font-family: sans-serif\, Arial\, Verdana\, " trebuchet="">$10 per person!&nbsp\; &nbsp\;Advanced Tickets only! No walk ins allowed!</span>&nbsp\; Register here or call The Chamber at (920) 684-5575 to reserve your rooftop spot at the Sub Pub!</strong><br />\n&nbsp\;
LOCATION:Sub Pub rooftop of Wisconsin Maritime Museum 75 Maritime Dr.\, Manitowoc
UID:e.361.16353
SEQUENCE:3
DTSTAMP:20260424T111134Z
URL:https://business.chambermanitowoccounty.org/events/details/sub-pub-reservation-lakeshore-balloon-glow-2021-16353
END:VEVENT

END:VCALENDAR
