BEGIN:VCALENDAR
VERSION:2.0
PRODID:-//ChamberMaster//Event Calendar 2.0//EN
METHOD:PUBLISH
X-PUBLISHED-TTL:P3D
REFRESH-INTERVAL:P3D
CALSCALE:GREGORIAN
BEGIN:VEVENT
DTSTART:20190623T000000Z
DTEND:20190623T020000Z
X-MICROSOFT-CDO-ALLDAYEVENT:FALSE
SUMMARY:Summer Concert Series
DESCRIPTION:Manitowoc Lutheran High FREE Outdoor Concert Series June 22nd - 7PM Jonah Backus and the Conquerors and Branches Band July 20th - 7PM St. Marcus Gospel Choir August 17th - 7PM Koine' Each concert will feature a local non-profit. The non-profit will speak at intermission and receive the free will offering collected at intermission! Bring a lawn chair\, enjoy concessions and the great music!
X-ALT-DESC;FMTTYPE=text/html:Manitowoc Lutheran High FREE Outdoor Concert Series June 22nd - 7PM Jonah Backus and the Conquerors and Branches Band July 20th - 7PM St. Marcus Gospel Choir August 17th - 7PM Koine&#39\; Each concert will feature a local non-profit. The non-profit will speak at intermission and receive the free will offering collected at intermission! Bring a lawn chair\, enjoy concessions and the great music!
LOCATION:Manitowoc Lutheran High School
UID:e.361.14425
SEQUENCE:3
DTSTAMP:20260425T192944Z
URL:https://business.chambermanitowoccounty.org/events/details/summer-concert-series-14425
END:VEVENT

END:VCALENDAR
