BEGIN:VCALENDAR
VERSION:2.0
PRODID:-//ChamberMaster//Event Calendar 2.0//EN
METHOD:PUBLISH
X-PUBLISHED-TTL:P3D
REFRESH-INTERVAL:P3D
CALSCALE:GREGORIAN
BEGIN:VEVENT
DTSTART:20190519T210000Z
DTEND:20190610T000000Z
X-MICROSOFT-CDO-ALLDAYEVENT:FALSE
SUMMARY:Sunday Music in the Pub
DESCRIPTION:Gather your friends and wind down the weekend with some great free music. May 19 Velveetatones June 2 Christopher Gold June 9 Kurt Gunn
X-ALT-DESC;FMTTYPE=text/html:Gather your friends and wind down the weekend with some great free music. May 19 Velveetatones June 2 Christopher Gold June 9 Kurt Gunn
LOCATION:The Forst Inn E2910 County Road BB Tisch Mills
UID:e.361.14308
SEQUENCE:3
DTSTAMP:20260425T193401Z
URL:https://business.chambermanitowoccounty.org/events/details/sunday-music-in-the-pub-14308
END:VEVENT

END:VCALENDAR
