BEGIN:VCALENDAR
VERSION:2.0
PRODID:-//ChamberMaster//Event Calendar 2.0//EN
METHOD:PUBLISH
X-PUBLISHED-TTL:P3D
REFRESH-INTERVAL:P3D
CALSCALE:GREGORIAN
BEGIN:VEVENT
DTSTART:20191102T140000Z
DTEND:20191102T160000Z
X-MICROSOFT-CDO-ALLDAYEVENT:FALSE
SUMMARY:Surviving the Holidays After a Loss
DESCRIPTION:When you are grieving a loved one's death\, the holiday season can be especially painful. This seminar helps participants prepare for the holidays and even discover hope for the future. Includes a video by expert counselors\, workbook\, discussion and group support.
X-ALT-DESC;FMTTYPE=text/html:When you are grieving a loved one&#39\;s death\, the holiday season can be especially painful. This seminar helps participants prepare for the holidays and even discover hope for the future. Includes a video by expert counselors\, workbook\, discussion and group support.
LOCATION:Grace Lutheran Church 2426 N. Rapids Road Manitowoc
UID:e.361.14805
SEQUENCE:3
DTSTAMP:20260425T132311Z
URL:https://business.chambermanitowoccounty.org/events/details/surviving-the-holidays-after-a-loss-14805
END:VEVENT

END:VCALENDAR
