BEGIN:VCALENDAR
VERSION:2.0
PRODID:-//ChamberMaster//Event Calendar 2.0//EN
METHOD:PUBLISH
X-PUBLISHED-TTL:P3D
REFRESH-INTERVAL:P3D
CALSCALE:GREGORIAN
BEGIN:VEVENT
DTSTART:20230626T150000Z
DTEND:20230626T220000Z
X-MICROSOFT-CDO-ALLDAYEVENT:FALSE
SUMMARY:Swing Fore Ascend Golf Event
DESCRIPTION:Ascend Services: Less than two weeks from today! Get those teams registered! Ascend is excited to be holding our second annual Swing Fore Ascend Golf Outing. Be ready to hit the links on June 26th at The Golf Course at Branch River. Registration is open! This event will benefit the people we serve and help Ascend to fulfill our mission which is to promote individual growth through community experiences\, education\, and employment opportunities. Tickets - https://events.golfstatus.com/.../registration-details. Hope to see you all there!
X-ALT-DESC;FMTTYPE=text/html:Ascend Services: Less than two weeks from today! Get those teams registered! Ascend is excited to be holding our second annual Swing Fore Ascend Golf Outing. Be ready to hit the links on June 26th at The Golf Course at Branch River. Registration is open! This event will benefit the people we serve and help Ascend to fulfill our mission which is to promote individual growth through community experiences\, education\, and employment opportunities. Tickets - https://events.golfstatus.com/.../registration-details. Hope to see you all there!
LOCATION:The Golf Course at Branch River
UID:e.361.18920
SEQUENCE:3
DTSTAMP:20260419T160210Z
URL:https://business.chambermanitowoccounty.org/events/details/swing-fore-ascend-golf-event-18920
END:VEVENT

END:VCALENDAR
