BEGIN:VCALENDAR
VERSION:2.0
PRODID:-//ChamberMaster//Event Calendar 2.0//EN
METHOD:PUBLISH
X-PUBLISHED-TTL:P3D
REFRESH-INTERVAL:P3D
CALSCALE:GREGORIAN
BEGIN:VEVENT
DTSTART:20211021T223000Z
DTEND:20211119T023000Z
X-MICROSOFT-CDO-ALLDAYEVENT:FALSE
SUMMARY:The Art of Spiritual Companioning
DESCRIPTION:Spirituality can add depth and meaning to life. Today individuals approach spirituality through a variety of realms. Based on recent psychological studies spirituality can have a positive impact on personality characteristics\, namely: Spiritual people are gracious. Spiritual people are compassionate. Spiritual people flourish. Spiritual people self-actualize. Spiritual people take time to savor life experiences. Topics will be covered according to the needs of participants and include: Distinguish between spiritual direction and spiritual companioning. Construction of spiritual timeline. Reflections on readings. Organize triads for discussion. Develop a mentor\, peer supervision group and other methods for self-care. Construct a rubric for client meetings. Reflections on readings. Triad work. Evaluate processes and techniques used with suggestion for more beneficial learning. Reflections on readings. Triad work. Participate in guided meditation. Summarize content and evolving awareness in oral presentation. Reflections on readings. Triad work. Initiate "client" meeting. Reflections on readings. Triad work. Conclude "client" meeting. Express importance of leave-taking\, closure and expressions of gratitude.
X-ALT-DESC;FMTTYPE=text/html:Spirituality can add depth and meaning to life. Today individuals approach spirituality through a variety of realms. Based on recent psychological studies spirituality can have a positive impact on personality characteristics\, namely: Spiritual people are gracious. Spiritual people are compassionate. Spiritual people flourish. Spiritual people self-actualize. Spiritual people take time to savor life experiences. Topics will be covered according to the needs of participants and include: Distinguish between spiritual direction and spiritual companioning. Construction of spiritual timeline. Reflections on readings. Organize triads for discussion. Develop a mentor\, peer supervision group and other methods for self-care. Construct a rubric for client meetings. Reflections on readings. Triad work. Evaluate processes and techniques used with suggestion for more beneficial learning. Reflections on readings. Triad work. Participate in guided meditation. Summarize content and evolving awareness in oral presentation. Reflections on readings. Triad work. Initiate &quot\;client&quot\; meeting. Reflections on readings. Triad work. Conclude &quot\;client&quot\; meeting. Express importance of leave-taking\, closure and expressions of gratitude.
LOCATION:Virtual - A Zoom Link will be shared prior to the first class.
UID:e.361.16457
SEQUENCE:3
DTSTAMP:20260422T195602Z
URL:https://business.chambermanitowoccounty.org/events/details/the-art-of-spiritual-companioning-16457
END:VEVENT

END:VCALENDAR
