BEGIN:VCALENDAR
VERSION:2.0
PRODID:-//ChamberMaster//Event Calendar 2.0//EN
METHOD:PUBLISH
X-PUBLISHED-TTL:P3D
REFRESH-INTERVAL:P3D
CALSCALE:GREGORIAN
BEGIN:VEVENT
DTSTART:20190411T173000Z
DTEND:20190411T200000Z
X-MICROSOFT-CDO-ALLDAYEVENT:FALSE
SUMMARY:The Chamber of Manitowoc County Student Job Fair
DESCRIPTION:Businesses: This is a great way for you to share the positions you have available\, collect applications and set up interviews. All high school students from Manitowoc County are invited and encouraged to attend.  (Please note not all students will be over the age of 18). This event will also be open to the public.  To sign up for a booth\, click the Register Now Button.  For more information\, please contact The Chamber at (920) 684-5575. Click Here for setup information.\n\n\n\nBusinesses Participating:\n\nABR Employment Services\n\nAmericollect\n\nCP Lakeshore\n\nCulver's\n\nFederal Mogul\n\nFelician Village\n\nFox Hills Resort\n\nGoodwill Industries\n\nHamann Construction Co.\n\nHamilton Care Center\n\nH&R Block\n\nIronwood Plastics\n\nKDC/ONE Northern Labs\n\nLakeside Foods\, Incorporated\n\nLowe's Home Improvement\n\nManitowoc Health & Rehabilitation Center\n\nManitowoc Marina\n\nManitowoc Tool & Manufacturing\n\nMcDonalds Manitowoc\n\nMetal Ware Corporation\n\nRobinson Metal\n\nSargento Foods\n\nSEEK Careers/Staffing\, Inc.\n\nSkana Aluminum Company\n\nSmile Clinic\n\nThe Bay at Northridge\n\nQPS Employment Group\n\nQualified Staffing\n\nU.S. Army Recruiting\n\nWal-Mart Supercenter\n\n\n\n\n\nAttention High School Students and Public:  The Chamber of Manitowoc County is pleased to offer a Job Fair for student job seekers in Manitowoc County who are looking for either summer or permanent employment. Click Here for event flyer.  (You do not need to register).
X-ALT-DESC;FMTTYPE=text/html:<br />\n<span style="font-size:14px\;"><span style="font-family: tahoma\;"><strong><em>Businesses:</em></strong>&nbsp\;This is a great way for you to share the positions you have available\, collect applications and set up interviews.&nbsp\;<strong>All high school&nbsp\;students from Manitowoc County&nbsp\;are invited and encouraged to attend.</strong>&nbsp\; (Please note not all students will be over the age of 18). This event will also be open to the public.&nbsp\; To sign up for a booth\, click the Register Now Button. &nbsp\;For more information\, please contact The Chamber at&nbsp\;<span class="skype_c2c_print_container skype_c2c notranslate">(920) 684-5575. <a href="https://chambermaster.blob.core.windows.net/userfiles/UserFiles/chambers/361/File/MCPIE/Job_Fair/2019/Setupletterupdated.pdf">Click Here</a> for setup information.<br />\n<br />\n<u>Businesses Participating:</u><br />\n<em>ABR Employment Services<br />\nAmericollect<br />\nCP Lakeshore<br />\nCulver&#39\;s<br />\nFederal Mogul<br />\nFelician Village<br />\nFox Hills Resort<br />\nGoodwill Industries<br />\nHamann Construction Co.<br />\nHamilton Care Center<br />\nH&amp\;R Block<br />\nIronwood Plastics<br />\nKDC/ONE Northern Labs<br />\nLakeside Foods\, Incorporated<br />\nLowe&#39\;s Home Improvement<br />\nManitowoc Health &amp\; Rehabilitation Center<br />\nManitowoc Marina<br />\nManitowoc Tool &amp\; Manufacturing<br />\nMcDonalds Manitowoc<br />\nMetal Ware Corporation<br />\nRobinson Metal<br />\nSargento Foods<br />\nSEEK Careers/Staffing\, Inc.<br />\nSkana Aluminum Company<br />\nSmile Clinic<br />\nThe Bay at Northridge<br />\nQPS Employment Group</em><br />\n<em>Qualified Staffing<br />\nU.S. Army Recruiting<br />\nWal-Mart Supercenter</em></span></span><br />\n<br />\n<br />\n<span style="font-family: tahoma\;"><strong><em>Attention High School Students and Public:</em></strong><span style="line-height: 115%\;">&nbsp\;&nbsp\;The Chamber of Manitowoc County&nbsp\;is pleased to offer a Job Fair</span>&nbsp\;for student job seekers in Manitowoc County&nbsp\;who&nbsp\;are <span class="apple-converted-space">looking for&nbsp\;either summer&nbsp\;or permanent employment. <a href="https://chambermaster.blob.core.windows.net/userfiles/UserFiles/chambers/361/File/MCPIE/Job_Fair/2019/HSJobFair2019.pdf">Click Here</a>&nbsp\;for event flyer.&nbsp\; (You do not need to register).</span></span></span>\n<div style="text-align: center\;">&nbsp\;</div>\n\n<div style="text-align: center\;">&nbsp\;</div>\n<br />\n<span style="font-family: arial\,sans-serif\;"><span style="font-size: 10pt\;"><span class="skype_c2c_print_container skype_c2c notranslate"><em>&nbsp\;&nbsp\;&nbsp\;&nbsp\;&nbsp\;&nbsp\;</em></span></span></span><br />\n&nbsp\;\n<p bitstream="" new="" style="line-height: 24px\; font-family: Georgia\,\;" times="">&nbsp\;</p>\n\n<p bitstream="" new="" style="line-height: 24px\;" times="">&nbsp\;</p>\n\n<p bitstream="" new="" style="line-height: 24px\; font-family: Georgia\,\;" times=""><br />\n<br />\n&nbsp\;</p>\n\n<p bitstream="" new="" style="line-height: 24px\; font-family: Georgia\,\;" times="">&nbsp\;</p>\n
LOCATION:JFK Fieldhouse at Lincoln High School 1433 S. 8th St. (Enter on S. 9th St.) Manitowoc\, WI 54220
UID:e.361.13809
SEQUENCE:3
DTSTAMP:20260425T215622Z
URL:https://business.chambermanitowoccounty.org/events/details/the-chamber-of-manitowoc-county-job-fair-04-11-2019-13809
END:VEVENT

END:VCALENDAR
