BEGIN:VCALENDAR
VERSION:2.0
PRODID:-//ChamberMaster//Event Calendar 2.0//EN
METHOD:PUBLISH
X-PUBLISHED-TTL:P3D
REFRESH-INTERVAL:P3D
CALSCALE:GREGORIAN
BEGIN:VEVENT
DTSTART:20220312T143000Z
DTEND:20220312T180000Z
X-MICROSOFT-CDO-ALLDAYEVENT:FALSE
SUMMARY:The Church of Jesus Christ of Latter-Day Saints Blood Drive
DESCRIPTION:The Church of Jesus Christ of Latter-Day Saints Blood Drive 4105 Michigan Avenue Manitowoc\, WI 54220 Saturday\, March 12 8:30 AM - 12:00 PM To schedule your donation appointment\, please visit communityblood.org/donor. Log in\, click "Donate Now" and search for Sponsor Code: OT171. If you have any questions\, please contact Lily at (920) 585-3785 or email lily_e_gabor@yahoo.com.
X-ALT-DESC;FMTTYPE=text/html:The Church of Jesus Christ of Latter-Day Saints Blood Drive 4105 Michigan Avenue Manitowoc\, WI 54220 Saturday\, March 12 8:30 AM - 12:00 PM To schedule your donation appointment\, please visit communityblood.org/donor. Log in\, click &quot\;Donate Now&quot\; and search for Sponsor Code: OT171. If you have any questions\, please contact Lily at (920) 585-3785 or email lily_e_gabor@yahoo.com.
LOCATION:The Church of Jesus Christ of Latter-Day Saints 4105 Michigan Avenue Manitowoc\, WI 54220
UID:e.361.17254
SEQUENCE:3
DTSTAMP:20260422T155911Z
URL:https://business.chambermanitowoccounty.org/events/details/the-church-of-jesus-christ-of-latter-day-saints-blood-drive-17254
END:VEVENT

END:VCALENDAR
