BEGIN:VCALENDAR
VERSION:2.0
PRODID:-//ChamberMaster//Event Calendar 2.0//EN
METHOD:PUBLISH
X-PUBLISHED-TTL:P3D
REFRESH-INTERVAL:P3D
CALSCALE:GREGORIAN
BEGIN:VEVENT
DTSTART:20220512T210000Z
DTEND:20220512T230000Z
X-MICROSOFT-CDO-ALLDAYEVENT:FALSE
SUMMARY:The Crossing of Manitowoc County Ribbon Cutting
DESCRIPTION:The staff and volunteers at The Crossing of Manitowoc County are excited to invite you to our ribbon cutting event May 12\, 4pm at 501 N 10 th Street\, where we are working toward a healthier family for every child. Please join us as we cut the ribbon\, let confetti fall\, offer tours\, champagne\, and cake.
X-ALT-DESC;FMTTYPE=text/html:<span style="font-size:20px\;">The staff and volunteers at The Crossing of Manitowoc County are excited to invite you to our ribbon cutting event May 12\, 4pm at 501 N 10 th Street\, where we are working toward a healthier family for every child. Please join us as we cut the ribbon\, let confetti fall\, offer tours\, champagne\, and cake.</span>
LOCATION:501 N. 10th Street Manitowoc\, WI 54220
UID:e.361.17895
SEQUENCE:3
DTSTAMP:20260422T114647Z
URL:https://business.chambermanitowoccounty.org/events/details/the-crossing-of-manitowoc-county-ribbon-cutting-17895
END:VEVENT

END:VCALENDAR
