BEGIN:VCALENDAR
VERSION:2.0
PRODID:-//ChamberMaster//Event Calendar 2.0//EN
METHOD:PUBLISH
X-PUBLISHED-TTL:P3D
REFRESH-INTERVAL:P3D
CALSCALE:GREGORIAN
BEGIN:VEVENT
DTSTART:20190621T170000Z
DTEND:20190707T170000Z
X-MICROSOFT-CDO-ALLDAYEVENT:FALSE
SUMMARY:The Fantasticks
DESCRIPTION:A funny and romantic musical about a boy\, a girl\, and two fathers who try to keep them apart. It's moving tale of young lovers who become disillusioned\, only to discover a more mature\, meaningful love is punctuated by a bountiful series of catchy\, memorable songs\, many of which have become classics.
X-ALT-DESC;FMTTYPE=text/html:A funny and romantic musical about a boy\, a girl\, and two fathers who try to keep them apart. It&rsquo\;s moving tale of young lovers who become disillusioned\, only to discover a more mature\, meaningful love is punctuated by a bountiful series of catchy\, memorable songs\, many of which have become classics.
LOCATION:The Forst Inn E2910 County Road BB Tisch Mills
UID:e.361.14306
SEQUENCE:3
DTSTAMP:20260425T181407Z
URL:https://business.chambermanitowoccounty.org/events/details/the-fantasticks-14306
END:VEVENT

END:VCALENDAR
