BEGIN:VCALENDAR
VERSION:2.0
PRODID:-//ChamberMaster//Event Calendar 2.0//EN
METHOD:PUBLISH
X-PUBLISHED-TTL:P3D
REFRESH-INTERVAL:P3D
CALSCALE:GREGORIAN
BEGIN:VEVENT
DTSTART:20211017T003000Z
DTEND:20211017T023000Z
X-MICROSOFT-CDO-ALLDAYEVENT:FALSE
SUMMARY:The Masked Concert: Superheroes vs. Villains (LWE)
DESCRIPTION:Lakeshore Wind Ensemble: \nThe Masked Concert: Superheroes vs. Villains\n\n\nSat.\, October 16\, 2021\, 7:30 pm\n\nAssistant Conductor Chris Woller\n\nChris Woller and the Lakeshore Wind Ensemble kick-off this season with music from some of our favorite superheroes and villains\, including music from The Phantom of the Opera\, Star Wars and other masked characters like Batman! The LWE will also honor the real superheroes of 2020/2021\, our healthcare workers who have cared for our sick with love and dignity and fought the fight against Covid-19.\n\n \nTickets\n\nSeason tickets\, individual concert tickets and the seating chart are available at the CCC Box Office during business hours or online at cccshows.org. Individual tickets for adult's main floor and mezzanine are $16\; student and balcony seating are $9 plus fees and tax. For Season ticket package rates click here.\n\nPlease contact the CCC Box Office for more information or follow the link to their website to purchase tickets and view the seating chart.\n\nCapitol Civic Centre\n\n913 South 8th Street\n\nManitowoc\, Wisconsin\, 54220\n\n920-683-2184\n\nwww.cccshows.org
X-ALT-DESC;FMTTYPE=text/html:<span style="color: rgb(41\, 47\, 51)\; font-family: -apple-system\, BlinkMacSystemFont\, &quot\;Segoe UI&quot\;\, Roboto\, &quot\;Helvetica Neue&quot\;\, Arial\, sans-serif\, &quot\;Apple Color Emoji&quot\;\, &quot\;Segoe UI Emoji&quot\;\, &quot\;Segoe UI Symbol&quot\;\; font-size: 16px\;">Lakeshore Wind Ensemble:&nbsp\;</span>\n<h5 style="box-sizing: border-box\; font-family: Montserrat\, -apple-system\, BlinkMacSystemFont\, &quot\;Segoe UI&quot\;\, Roboto\, &quot\;Helvetica Neue&quot\;\, Arial\, sans-serif\, &quot\;Apple Color Emoji&quot\;\, &quot\;Segoe UI Emoji&quot\;\, &quot\;Segoe UI Symbol&quot\;\; font-weight: 700\; color: rgb(76\, 76\, 76)\; margin: 0px 0px 0.5rem\; font-size: 1.25rem\; padding: 0px\; border: 0px\; font-variant-numeric: inherit\; font-variant-east-asian: inherit\; font-stretch: inherit\; vertical-align: baseline\;">The Masked Concert: Superheroes vs. Villains</h5>\n<br />\n<strong style="box-sizing: border-box\; margin: 0px\; padding: 0px\; border: 0px\; font-variant-numeric: inherit\; font-variant-east-asian: inherit\; font-stretch: inherit\; font-size: 16px\; line-height: inherit\; font-family: -apple-system\, BlinkMacSystemFont\, &quot\;Segoe UI&quot\;\, Roboto\, &quot\;Helvetica Neue&quot\;\, Arial\, sans-serif\, &quot\;Apple Color Emoji&quot\;\, &quot\;Segoe UI Emoji&quot\;\, &quot\;Segoe UI Symbol&quot\;\; vertical-align: baseline\; color: rgb(41\, 47\, 51)\; background-color: rgb(255\, 255\, 255)\;">Sat.\, October 16\, 2021\, 7:30 pm</strong><br style="box-sizing: border-box\; color: rgb(41\, 47\, 51)\; font-family: -apple-system\, BlinkMacSystemFont\, &quot\;Segoe UI&quot\;\, Roboto\, &quot\;Helvetica Neue&quot\;\, Arial\, sans-serif\, &quot\;Apple Color Emoji&quot\;\, &quot\;Segoe UI Emoji&quot\;\, &quot\;Segoe UI Symbol&quot\;\; font-size: 16px\; background-color: rgb(255\, 255\, 255)\;" />\n<span style="color: rgb(41\, 47\, 51)\; font-family: -apple-system\, BlinkMacSystemFont\, &quot\;Segoe UI&quot\;\, Roboto\, &quot\;Helvetica Neue&quot\;\, Arial\, sans-serif\, &quot\;Apple Color Emoji&quot\;\, &quot\;Segoe UI Emoji&quot\;\, &quot\;Segoe UI Symbol&quot\;\; font-size: 16px\; background-color: rgb(255\, 255\, 255)\;">Assistant Conductor Chris Woller</span><br style="box-sizing: border-box\; color: rgb(41\, 47\, 51)\; font-family: -apple-system\, BlinkMacSystemFont\, &quot\;Segoe UI&quot\;\, Roboto\, &quot\;Helvetica Neue&quot\;\, Arial\, sans-serif\, &quot\;Apple Color Emoji&quot\;\, &quot\;Segoe UI Emoji&quot\;\, &quot\;Segoe UI Symbol&quot\;\; font-size: 16px\; background-color: rgb(255\, 255\, 255)\;" />\n<span style="color: rgb(41\, 47\, 51)\; font-family: -apple-system\, BlinkMacSystemFont\, &quot\;Segoe UI&quot\;\, Roboto\, &quot\;Helvetica Neue&quot\;\, Arial\, sans-serif\, &quot\;Apple Color Emoji&quot\;\, &quot\;Segoe UI Emoji&quot\;\, &quot\;Segoe UI Symbol&quot\;\; font-size: 16px\; background-color: rgb(255\, 255\, 255)\;">Chris Woller and the Lakeshore Wind Ensemble kick-off this season with music from some of our favorite superheroes and villains\, including music from&nbsp\;</span><em style="box-sizing: border-box\; margin: 0px\; padding: 0px\; border: 0px\; font-variant-numeric: inherit\; font-variant-east-asian: inherit\; font-stretch: inherit\; font-size: 16px\; line-height: inherit\; font-family: -apple-system\, BlinkMacSystemFont\, &quot\;Segoe UI&quot\;\, Roboto\, &quot\;Helvetica Neue&quot\;\, Arial\, sans-serif\, &quot\;Apple Color Emoji&quot\;\, &quot\;Segoe UI Emoji&quot\;\, &quot\;Segoe UI Symbol&quot\;\; vertical-align: baseline\; color: rgb(41\, 47\, 51)\; background-color: rgb(255\, 255\, 255)\;">The Phantom of the Opera\, Star Wars</em><span style="color: rgb(41\, 47\, 51)\; font-family: -apple-system\, BlinkMacSystemFont\, &quot\;Segoe UI&quot\;\, Roboto\, &quot\;Helvetica Neue&quot\;\, Arial\, sans-serif\, &quot\;Apple Color Emoji&quot\;\, &quot\;Segoe UI Emoji&quot\;\, &quot\;Segoe UI Symbol&quot\;\; font-size: 16px\; background-color: rgb(255\, 255\, 255)\;">&nbsp\;and other masked characters like Batman! The LWE will also honor the real superheroes of 2020/2021\, our healthcare workers who have cared for our sick with love and dignity and fought the fight against Covid-19.</span><br />\n&nbsp\;\n<h2 style="box-sizing: border-box\; font-family: Montserrat\, -apple-system\, BlinkMacSystemFont\, &quot\;Segoe UI&quot\;\, Roboto\, &quot\;Helvetica Neue&quot\;\, Arial\, sans-serif\, &quot\;Apple Color Emoji&quot\;\, &quot\;Segoe UI Emoji&quot\;\, &quot\;Segoe UI Symbol&quot\;\; font-weight: 700\; color: rgb(76\, 76\, 76)\; margin: 0px 0px 0.5rem\; font-size: 2rem\; padding: 0px\; border: 0px\; font-variant-numeric: inherit\; font-variant-east-asian: inherit\; font-stretch: inherit\; vertical-align: baseline\;">Tickets</h2>\n\n<p style="box-sizing: border-box\; margin: 0px 0px 2rem\; padding: 0px\; border: 0px\; font-variant-numeric: inherit\; font-variant-east-asian: inherit\; font-stretch: inherit\; font-size: 16px\; line-height: 1.7\; font-family: -apple-system\, BlinkMacSystemFont\, &quot\;Segoe UI&quot\;\, Roboto\, &quot\;Helvetica Neue&quot\;\, Arial\, sans-serif\, &quot\;Apple Color Emoji&quot\;\, &quot\;Segoe UI Emoji&quot\;\, &quot\;Segoe UI Symbol&quot\;\; vertical-align: baseline\; color: rgb(41\, 47\, 51)\;">Season tickets\, individual concert tickets and the seating chart are available at the CCC Box Office during business hours or online at cccshows.org. Individual tickets for adult&rsquo\;s main floor and mezzanine are $16\; student and balcony seating are $9 plus fees and tax. For Season ticket package rates <strong><a href="https://www.uwgb.edu/lakeshore-wind-ensemble/concerts/">click here</a></strong>.</p>\n\n<p style="box-sizing: border-box\; margin: 0px 0px 2rem\; padding: 0px\; border: 0px\; font-variant-numeric: inherit\; font-variant-east-asian: inherit\; font-stretch: inherit\; font-size: 16px\; line-height: 1.7\; font-family: -apple-system\, BlinkMacSystemFont\, &quot\;Segoe UI&quot\;\, Roboto\, &quot\;Helvetica Neue&quot\;\, Arial\, sans-serif\, &quot\;Apple Color Emoji&quot\;\, &quot\;Segoe UI Emoji&quot\;\, &quot\;Segoe UI Symbol&quot\;\; vertical-align: baseline\; color: rgb(41\, 47\, 51)\;">Please contact the CCC Box Office for more information or follow the link to their&nbsp\;<a href="https://cccshows.org/" style="box-sizing: border-box\; background-color: transparent\; color: rgb(16\, 125\, 58)\; margin: 0px\; padding: 0px\; border: 0px\; font: inherit\; vertical-align: baseline\;">website</a>&nbsp\;to purchase tickets and view the seating chart.<br style="box-sizing: border-box\;" />\nCapitol Civic Centre<br style="box-sizing: border-box\;" />\n913 South 8th Street<br style="box-sizing: border-box\;" />\nManitowoc\, Wisconsin\, 54220<br style="box-sizing: border-box\;" />\n920-683-2184<br style="box-sizing: border-box\;" />\n<a href="http://www.cccshows.org/" style="box-sizing: border-box\; background-color: transparent\; color: rgb(16\, 125\, 58)\; margin: 0px\; padding: 0px\; border: 0px\; font: inherit\; vertical-align: baseline\;">www.cccshows.org</a></p>\n
LOCATION:Capitol Civic Centre 913 South 8th Street Manitowoc\, Wisconsin\, 54220
UID:e.361.16461
SEQUENCE:3
DTSTAMP:20260422T212615Z
URL:https://business.chambermanitowoccounty.org/events/details/the-masked-concert-superheroes-vs-villains-lwe-16461
END:VEVENT

END:VCALENDAR
