BEGIN:VCALENDAR
VERSION:2.0
PRODID:-//ChamberMaster//Event Calendar 2.0//EN
METHOD:PUBLISH
X-PUBLISHED-TTL:P3D
REFRESH-INTERVAL:P3D
CALSCALE:GREGORIAN
BEGIN:VEVENT
DTSTART:20190330T000000Z
DTEND:20190330T030000Z
X-MICROSOFT-CDO-ALLDAYEVENT:FALSE
SUMMARY:The Ricochettes
DESCRIPTION:Enjoy a night of music and dancing with the "Best of the British Invasion". Songs by The Beatles\, Herman's Hermits\, The Kinks\, The Hollies\, The Everly Brothers\, The Rolling Stones and more! Snacks and beverages will be available for purchase.
X-ALT-DESC;FMTTYPE=text/html:Enjoy a night of music and dancing with the &quot\;Best of the British Invasion&quot\;. Songs by The Beatles\, Herman&#39\;s Hermits\, The Kinks\, The Hollies\, The Everly Brothers\, The Rolling Stones and more! Snacks and beverages will be available for purchase.
LOCATION:JE Hamilton Community House 1520 17th St Two Rivers\, WI 54241
UID:e.361.13725
SEQUENCE:3
DTSTAMP:20260425T225330Z
URL:https://business.chambermanitowoccounty.org/events/details/the-ricochettes-13725
END:VEVENT

END:VCALENDAR
