BEGIN:VCALENDAR
VERSION:2.0
PRODID:-//ChamberMaster//Event Calendar 2.0//EN
METHOD:PUBLISH
X-PUBLISHED-TTL:P3D
REFRESH-INTERVAL:P3D
CALSCALE:GREGORIAN
BEGIN:VEVENT
DTSTART:20221020T220000Z
DTEND:20221021T020000Z
X-MICROSOFT-CDO-ALLDAYEVENT:FALSE
SUMMARY:The Showdown!
DESCRIPTION:Join us on October 20\, 2022 for The Showdown at Round Lake Farms! This year The Showdown features Daddy D's Productions... Darren & Shelly Johnson plus a four piece band and production! They perform an hour & fifteen minute set with a variety of music ranging from the 50s to 70s\, a bit of country\, and good comedy! The Activities: Social Hour Daddy D's Productions Best Dressed Contest... attendees are encouraged to dress in old western fashion! Raffle Tickets Silent Auctions Heavy Hors d'oeuvre Photo Booth ...& more
X-ALT-DESC;FMTTYPE=text/html:Join us on October 20\, 2022 for The Showdown at Round Lake Farms! This year The Showdown features Daddy D&#39\;s Productions... Darren &amp\; Shelly Johnson plus a four piece band and production! They perform an hour &amp\; fifteen minute set with a variety of music ranging from the 50s to 70s\, a bit of country\, and good comedy! The Activities: Social Hour Daddy D&#39\;s Productions Best Dressed Contest... attendees are encouraged to dress in old western fashion! Raffle Tickets Silent Auctions Heavy Hors d&#39\;oeuvre Photo Booth ...&amp\; more
LOCATION:Round Lake Farms 1111 Round Lake Rd\, Brillion\, WI\, 54110
UID:e.361.18028
SEQUENCE:3
DTSTAMP:20260420T033135Z
URL:https://business.chambermanitowoccounty.org/events/details/the-showdown-18028
END:VEVENT

END:VCALENDAR
