BEGIN:VCALENDAR
VERSION:2.0
PRODID:-//ChamberMaster//Event Calendar 2.0//EN
METHOD:PUBLISH
X-PUBLISHED-TTL:P3D
REFRESH-INTERVAL:P3D
CALSCALE:GREGORIAN
BEGIN:VEVENT
DTSTART:20211111T013000Z
DTEND:20211111T033000Z
X-MICROSOFT-CDO-ALLDAYEVENT:FALSE
SUMMARY:The State Ballet Theater of Ukraine Presents Cinderella
DESCRIPTION:The State Ballet Theatre of Ukraine returns to the United States to present their captivating two-act performance of Cinderella\, one of the most beloved stories of all time. With no fewer than 55 of Ukrainians finest performers\, this esteemed ensemble has performed to the delight of audiences worldwide. Set to Sergei Prokofiev's music with Vladimir Vasiliev's choreography\, this full-scale production follows the beautiful maiden's story as she seeks her handsome Prince Charming. With the help of a little magic\, she discovers that dreams really can come true. Featuring graceful dancers\, enchanting music\, and beautiful costumes\, this classic fairy tale is a treat the whole family will enjoy!
X-ALT-DESC;FMTTYPE=text/html:The State Ballet Theatre of Ukraine returns to the United States to present their captivating two-act performance of Cinderella\, one of the most beloved stories of all time. With no fewer than 55 of Ukrainians finest performers\, this esteemed ensemble has performed to the delight of audiences worldwide. Set to Sergei Prokofiev&#39\;s music with Vladimir Vasiliev&#39\;s choreography\, this full-scale production follows the beautiful maiden&#39\;s story as she seeks her handsome Prince Charming. With the help of a little magic\, she discovers that dreams really can come true. Featuring graceful dancers\, enchanting music\, and beautiful costumes\, this classic fairy tale is a treat the whole family will enjoy!
LOCATION:Weill Center
UID:e.361.16937
SEQUENCE:3
DTSTAMP:20260422T195413Z
URL:https://business.chambermanitowoccounty.org/events/details/the-state-ballet-theater-of-ukraine-presents-cinderella-16937
END:VEVENT

END:VCALENDAR
