BEGIN:VCALENDAR
VERSION:2.0
PRODID:-//ChamberMaster//Event Calendar 2.0//EN
METHOD:PUBLISH
X-PUBLISHED-TTL:P3D
REFRESH-INTERVAL:P3D
CALSCALE:GREGORIAN
BEGIN:VEVENT
DTSTART:20190303T013000Z
DTEND:20190303T023000Z
X-MICROSOFT-CDO-ALLDAYEVENT:FALSE
SUMMARY:The Winds of March Concert
DESCRIPTION:We will highlight music of Great Britain\, including Kenneth Alford's "Army of the Nile March" and a classic band work by Haydn Wood based on folk music of the Isle of Mann\, "Mannin Veen." Maestro Arendt will return to conduct music commissioned by the band to celebrate the 25th anniversary of the Lakeshore Wind Ensemble\, "Home of the Great Spirit" by Danny Mitchell.
X-ALT-DESC;FMTTYPE=text/html:We will highlight music of Great Britain\, including Kenneth Alford&rsquo\;s &quot\;Army of the Nile March&quot\; and a classic band work by Haydn Wood based on folk music of the Isle of Mann\, &quot\;Mannin Veen.&quot\; Maestro Arendt will return to conduct music commissioned by the band to celebrate the 25th anniversary of the Lakeshore Wind Ensemble\, &quot\;Home of the Great Spirit&quot\; by Danny Mitchell.
LOCATION:Capitol Civic Centre
UID:e.361.13791
SEQUENCE:3
DTSTAMP:20260425T225524Z
URL:https://business.chambermanitowoccounty.org/events/details/the-winds-of-march-concert-13791
END:VEVENT

END:VCALENDAR
