BEGIN:VCALENDAR
VERSION:2.0
PRODID:-//ChamberMaster//Event Calendar 2.0//EN
METHOD:PUBLISH
X-PUBLISHED-TTL:P3D
REFRESH-INTERVAL:P3D
CALSCALE:GREGORIAN
BEGIN:VEVENT
DTSTART:20220219T183000Z
DTEND:20220219T203000Z
X-MICROSOFT-CDO-ALLDAYEVENT:FALSE
SUMMARY:The World of Wisconsin Winemaking
DESCRIPTION:During this workshop\, Steve DeBaker\, from Trout Springs Winery\, will walk participants through various properties of wine\, how to taste and evaluate wine\, and what to pair with different varieties of wine. Afterward\, attendees will test their own skill at winemaking as Steve walks through the simplified steps from juice to wine. Workshop attendees will receive three-quarters of a gallon of your own homemade wine and lunch paired with a glass of wine from Trout Springs Winery as part of the workshop.
X-ALT-DESC;FMTTYPE=text/html:During this workshop\, Steve DeBaker\, from Trout Springs Winery\, will walk participants through various properties of wine\, how to taste and evaluate wine\, and what to pair with different varieties of wine. Afterward\, attendees will test their own skill at winemaking as Steve walks through the simplified steps from juice to wine. Workshop attendees will receive three-quarters of a gallon of your own homemade wine and lunch paired with a glass of wine from Trout Springs Winery as part of the workshop.
LOCATION:Farm Wisconsin Discovery Center (7001 Gass Lake Rd.\, Manitowoc\, WI 54220)
UID:e.361.17240
SEQUENCE:3
DTSTAMP:20260422T161141Z
URL:https://business.chambermanitowoccounty.org/events/details/the-world-of-wisconsin-winemaking-17240
END:VEVENT

END:VCALENDAR
