BEGIN:VCALENDAR
VERSION:2.0
PRODID:-//ChamberMaster//Event Calendar 2.0//EN
METHOD:PUBLISH
X-PUBLISHED-TTL:P3D
REFRESH-INTERVAL:P3D
CALSCALE:GREGORIAN
BEGIN:VEVENT
DTSTART:20190531T170000Z
DTEND:20190810T170000Z
X-MICROSOFT-CDO-ALLDAYEVENT:FALSE
SUMMARY:Tony 'n Tina's Wedding
DESCRIPTION:The craziest wedding you'll ever be invited to attend! An improvisational participatory theatrical event staging the nuptial celebration of Tony Nunzio and Valentina Vitale in all its tacky and hilarious glory. The performance includes a wedding service followed by a reception where the wedding party and their bickering family entertains their guests along with a pasta dinner\, wedding cake and dancing.
X-ALT-DESC;FMTTYPE=text/html:The craziest wedding you&#39\;ll ever be invited to attend! An improvisational participatory theatrical event staging the nuptial celebration of Tony Nunzio and Valentina Vitale in all its tacky and hilarious glory. The performance includes a wedding service followed by a reception where the wedding party and their bickering family entertains their guests along with a pasta dinner\, wedding cake and dancing.
LOCATION:The Forst Inn E2910 County Road BB Tisch Mills
UID:e.361.14304
SEQUENCE:3
DTSTAMP:20260425T170256Z
URL:https://business.chambermanitowoccounty.org/events/details/tony-n-tina-s-wedding-14304
END:VEVENT

END:VCALENDAR
