BEGIN:VCALENDAR
VERSION:2.0
PRODID:-//ChamberMaster//Event Calendar 2.0//EN
METHOD:PUBLISH
X-PUBLISHED-TTL:P3D
REFRESH-INTERVAL:P3D
CALSCALE:GREGORIAN
BEGIN:VEVENT
DTSTART:20190914T010000Z
DTEND:20190914T033000Z
X-MICROSOFT-CDO-ALLDAYEVENT:FALSE
SUMMARY:Trampled by Turtles
DESCRIPTION:SPONSORED BY PLENCO - PLASTICS ENGINEERING COMPANY Doors open: 7 p.m. TICKET PRICING: Tier 1 - $40 plus tax Tier 2 - $36 plus tax Tier 3 - $29 plus tax ABOUT TRAMPLED BY TURTLES: Trampled by Turtles are from Duluth\, Minnesota\, where frontman Dave Simonett initially formed the group as a side project in 2003. At the time\, Simonett had lost most of his music gear\, thanks to a group of enterprising car thieves who'd ransacked his vehicle while he played a show with his previous band. Left with nothing more than an acoustic guitar\, he began piecing together a new band\, this time taking inspiration from bluegrass\, folk\, and other genres that didn't rely on amplification. Simonett hadn't played any bluegrass music before\, and he filled his lineup with other newcomers to the genre\, including fiddler Ryan Young (who'd previously played drums in a speed metal act) and bassist Tim Saxhaug. Along with mandolinist Erik Berry and banjo player Dave Carroll\, the group began carving out a fast\, frenetic sound that owed as much to rock & roll as bluegrass.
X-ALT-DESC;FMTTYPE=text/html:SPONSORED BY PLENCO - PLASTICS ENGINEERING COMPANY Doors open: 7 p.m. TICKET PRICING: Tier 1 - $40 plus tax Tier 2 - $36 plus tax Tier 3 - $29 plus tax ABOUT TRAMPLED BY TURTLES: Trampled by Turtles are from Duluth\, Minnesota\, where frontman Dave Simonett initially formed the group as a side project in 2003. At the time\, Simonett had lost most of his music gear\, thanks to a group of enterprising car thieves who&#39\;d ransacked his vehicle while he played a show with his previous band. Left with nothing more than an acoustic guitar\, he began piecing together a new band\, this time taking inspiration from bluegrass\, folk\, and other genres that didn&#39\;t rely on amplification. Simonett hadn&#39\;t played any bluegrass music before\, and he filled his lineup with other newcomers to the genre\, including fiddler Ryan Young (who&#39\;d previously played drums in a speed metal act) and bassist Tim Saxhaug. Along with mandolinist Erik Berry and banjo player Dave Carroll\, the group began carving out a fast\, frenetic sound that owed as much to rock &amp\; roll as bluegrass.
LOCATION:Weill Center for the Performing Arts
UID:e.361.14426
SEQUENCE:3
DTSTAMP:20260425T154828Z
URL:https://business.chambermanitowoccounty.org/events/details/trampled-by-turtles-14426
END:VEVENT

END:VCALENDAR
