BEGIN:VCALENDAR
VERSION:2.0
PRODID:-//ChamberMaster//Event Calendar 2.0//EN
METHOD:PUBLISH
X-PUBLISHED-TTL:P3D
REFRESH-INTERVAL:P3D
CALSCALE:GREGORIAN
BEGIN:VEVENT
DTSTART:20190514T133000Z
DTEND:20190514T210000Z
X-MICROSOFT-CDO-ALLDAYEVENT:FALSE
SUMMARY:Trash to Treasure
DESCRIPTION:Trash to Treasure Sale Tuesday\, May 14 8:30 am - 4:00 pm JE Hamilton Community House Behringer Room 1520 - 17th Street\, Two Rivers * Household Goods * Outdoor * Craft Supplies * Holiday * Home D cor * Jewelry * Puzzles * Books * Movies * Greeting Cards * Much MORE New or gently used treasures may be dropped off on Monday\, May 13 ~ 8:30 am - 4:00 pm. (We are unable to accept any drop-offs prior to this date and time). NO clothing or electronics please. BAKE SALE ~ during the sale on Tuesday Stuff-A-Bag for $2.00 on Wednesday morning from 8:30 am - 9:30 am.
X-ALT-DESC;FMTTYPE=text/html:Trash to Treasure Sale Tuesday\, May 14 8:30 am - 4:00 pm JE Hamilton Community House Behringer Room 1520 - 17th Street\, Two Rivers * Household Goods * Outdoor * Craft Supplies * Holiday * Home D&eacute\;cor * Jewelry * Puzzles * Books * Movies * Greeting Cards * Much MORE New or gently used treasures may be dropped off on Monday\, May 13 ~ 8:30 am - 4:00 pm. (We are unable to accept any drop-offs prior to this date and time). NO clothing or electronics please. BAKE SALE ~ during the sale on Tuesday Stuff-A-Bag for $2.00 on Wednesday morning from 8:30 am - 9:30 am.
LOCATION:JE Hamilton Community House Behringer Room 1520 - 17th Street\, Two Rivers
UID:e.361.14159
SEQUENCE:3
DTSTAMP:20260425T203131Z
URL:https://business.chambermanitowoccounty.org/events/details/trash-to-treasure-14159
END:VEVENT

END:VCALENDAR
