BEGIN:VCALENDAR
VERSION:2.0
PRODID:-//ChamberMaster//Event Calendar 2.0//EN
METHOD:PUBLISH
X-PUBLISHED-TTL:P3D
REFRESH-INTERVAL:P3D
CALSCALE:GREGORIAN
BEGIN:VEVENT
DTSTART:20190905T133000Z
DTEND:20190905T210000Z
X-MICROSOFT-CDO-ALLDAYEVENT:FALSE
SUMMARY:Trash to Treasure Sale
DESCRIPTION:Household goods\, outdoor items\, holiday\, craft supplies\, books\, movies\, puzzles\, greeting cards\, jewelry\, and more! Enjoy a goody from our BAKE SALE during this same time (while supplies last). New or gently used treasures may be donated to the Two Rivers Senior Center on Wednesday\, September 5\, between 8:30 am - 4:00 pm\, no clothing or electronics please. Stuff-A-Bag for $2.00 on Friday from 8:30 am - 9:30 am.
X-ALT-DESC;FMTTYPE=text/html:Household goods\, outdoor items\, holiday\, craft supplies\, books\, movies\, puzzles\, greeting cards\, jewelry\, and more! Enjoy a goody from our BAKE SALE during this same time (while supplies last). New or gently used treasures may be donated to the Two Rivers Senior Center on Wednesday\, September 5\, between 8:30 am - 4:00 pm\, no clothing or electronics please. Stuff-A-Bag for $2.00 on Friday from 8:30 am - 9:30 am.
LOCATION:Two Rivers Community House - Behringer Room
UID:e.361.14472
SEQUENCE:3
DTSTAMP:20260425T155556Z
URL:https://business.chambermanitowoccounty.org/events/details/trash-to-treasure-sale-09-05-2019-14472
END:VEVENT

END:VCALENDAR
