BEGIN:VCALENDAR
VERSION:2.0
PRODID:-//ChamberMaster//Event Calendar 2.0//EN
METHOD:PUBLISH
X-PUBLISHED-TTL:P3D
REFRESH-INTERVAL:P3D
CALSCALE:GREGORIAN
BEGIN:VEVENT
DTSTART:20200912T140000Z
DTEND:20200912T170000Z
X-MICROSOFT-CDO-ALLDAYEVENT:FALSE
SUMMARY:Trek the Creek Scott Bohman Memorial 5K Run/Family Walk
DESCRIPTION:Get up and go! Register for the Trek the Creek Scott Bohman Memorial 5K Run and Family Walk. Event is Saturday\, September 12th at 9 am at Pla-Mor Park in Francis Creek\, Wisconsin. $20 entry fee if received by September 3. Awards\, t-shirts and refreshments provided. All proceeds benefit local charities. For more information contact FrancisCreekLions@gmail.com
X-ALT-DESC;FMTTYPE=text/html:Get up and go! Register for the Trek the Creek Scott Bohman Memorial 5K Run and Family Walk. Event is Saturday\, September 12th at 9 am at Pla-Mor Park in Francis Creek\, Wisconsin. $20 entry fee if received by September 3. Awards\, t-shirts and refreshments provided. All proceeds benefit local charities. For more information contact FrancisCreekLions@gmail.com
LOCATION:Pla-Mor Park in Francis Creek
UID:e.361.15289
SEQUENCE:3
DTSTAMP:20260425T020239Z
URL:https://business.chambermanitowoccounty.org/events/details/trek-the-creek-scott-bohman-memorial-5k-run-family-walk-15289
END:VEVENT

END:VCALENDAR
