BEGIN:VCALENDAR
VERSION:2.0
PRODID:-//ChamberMaster//Event Calendar 2.0//EN
METHOD:PUBLISH
X-PUBLISHED-TTL:P3D
REFRESH-INTERVAL:P3D
CALSCALE:GREGORIAN
BEGIN:VEVENT
DTSTART:20211030T150000Z
DTEND:20211030T190000Z
X-MICROSOFT-CDO-ALLDAYEVENT:FALSE
SUMMARY:Trick or Treat Spooktacular
DESCRIPTION:Show up in your best costumes for our Trick or Treat Spooktacular at Farm Wisconsin! Participate in multiple fall & Halloween related activities\, complete a scavenger hunt\, and receive a bag full of Wisconsin-sourced goodies! Don't forget to shop in our Farm House Store for an array of gifts and unique items! Plus\, you can visit Ice Cream Acres - serving 16 different flavors of Cedar Crest ice cream.
X-ALT-DESC;FMTTYPE=text/html:Show up in your best costumes for our Trick or Treat Spooktacular at Farm Wisconsin! Participate in multiple fall &amp\; Halloween related activities\, complete a scavenger hunt\, and receive a bag full of Wisconsin-sourced goodies! Don&#39\;t forget to shop in our Farm House Store for an array of gifts and unique items! Plus\, you can visit Ice Cream Acres - serving 16 different flavors of Cedar Crest ice cream.
LOCATION:Farm Wisconsin Discovery Center 7001 Gass Lake Rd Manitowoc\, WI 54220
UID:e.361.16927
SEQUENCE:3
DTSTAMP:20260422T212159Z
URL:https://business.chambermanitowoccounty.org/events/details/trick-or-treat-spooktacular-16927
END:VEVENT

END:VCALENDAR
