BEGIN:VCALENDAR
VERSION:2.0
PRODID:-//ChamberMaster//Event Calendar 2.0//EN
METHOD:PUBLISH
X-PUBLISHED-TTL:P3D
REFRESH-INTERVAL:P3D
CALSCALE:GREGORIAN
BEGIN:VEVENT
DTSTART:20190911T210000Z
DTEND:20190911T230000Z
X-MICROSOFT-CDO-ALLDAYEVENT:FALSE
SUMMARY:Two Rivers Senior Center Open House
DESCRIPTION:Bring your friends and family and come see what we are all about! *Engage in our activities\, including games where you can win prizes. *Enjoy make and take stations. *Learn about our exercise classes\, TRUST Car\, activities\, program\, opportunities\, and more! *Explore all of the exciting things happening at our Senior Center. *Light refreshments *50/50 Raffle *Door Prizes *FUN!
X-ALT-DESC;FMTTYPE=text/html:Bring your friends and family and come see what we are all about! *Engage in our activities\, including games where you can win prizes. *Enjoy make and take stations. *Learn about our exercise classes\, TRUST Car\, activities\, program\, opportunities\, and more! *Explore all of the exciting things happening at our Senior Center. *Light refreshments *50/50 Raffle *Door Prizes *FUN!
LOCATION:Two Rivers Senior Center
UID:e.361.14473
SEQUENCE:3
DTSTAMP:20260425T155037Z
URL:https://business.chambermanitowoccounty.org/events/details/two-rivers-senior-center-open-house-14473
END:VEVENT

END:VCALENDAR
