BEGIN:VCALENDAR
VERSION:2.0
PRODID:-//ChamberMaster//Event Calendar 2.0//EN
METHOD:PUBLISH
X-PUBLISHED-TTL:P3D
REFRESH-INTERVAL:P3D
CALSCALE:GREGORIAN
BEGIN:VEVENT
DTSTART:20230226T200000Z
DTEND:20230226T220000Z
X-MICROSOFT-CDO-ALLDAYEVENT:FALSE
SUMMARY:University Of Wisconsin Varsity Band
DESCRIPTION:The UW Varsity is bringing good ol' Wisconsin spirit to Sheboygan! Starting in 1885 with just 11 members\, the University Band has grown into the spirited symbol of the Badger State it is today. Highlights include music from Encanto\, Bruno Mars\, ABBA\, and a selection of music from the Fifth Quarter. Wisconsinites young and old will delight with the many traditions of the UW Band\, such as the triumphant finale of "On Wisconsin!" A special section will be designated for students and alum (section O and P omitted)\, so come early to grab a seat\, have a beer\, and celebrate being a Badger! On Wisconsin! Each season the University of Wisconsin Band reaches Badger fans across the state and beyond   from UW Marching Band halftime shows at football games to UW Varsity Band appearances at volleyball\, hockey\, and basketball games. In the spring semester\, we offer Run-out Concerts that bring Badger Spirit to communities across the state and celebrate with a culminating annual UW Varsity Band Spring Concert at the Kohl Center. Doors open 1 hour prior to the show. No refunds\, exchanges or weather cancellations. We are not affiliated with any secondary ticket markets.
X-ALT-DESC;FMTTYPE=text/html:The UW Varsity is bringing good ol&rsquo\; Wisconsin spirit to Sheboygan! Starting in 1885 with just 11 members\, the University Band has grown into the spirited symbol of the Badger State it is today. Highlights include music from Encanto\, Bruno Mars\, ABBA\, and a selection of music from the Fifth Quarter. Wisconsinites young and old will delight with the many traditions of the UW Band\, such as the triumphant finale of &ldquo\;On Wisconsin!&rdquo\; A special section will be designated for students and alum (section O and P omitted)\, so come early to grab a seat\, have a beer\, and celebrate being a Badger! On Wisconsin! Each season the University of Wisconsin Band reaches Badger fans across the state and beyond &ndash\; from UW Marching Band halftime shows at football games to UW Varsity Band appearances at volleyball\, hockey\, and basketball games. In the spring semester\, we offer Run-out Concerts that bring Badger Spirit to communities across the state and celebrate with a culminating annual UW Varsity Band Spring Concert at the Kohl Center. Doors open 1 hour prior to the show. No refunds\, exchanges or weather cancellations. We are not affiliated with any secondary ticket markets.
LOCATION:Stefanie H. Weill Center for the Performing Arts 826 North 8th Street\, Sheboygan\, WI 53081
UID:e.361.18407
SEQUENCE:3
DTSTAMP:20260419T220905Z
URL:https://business.chambermanitowoccounty.org/events/details/university-of-wisconsin-varsity-band-18407
END:VEVENT

END:VCALENDAR
