BEGIN:VCALENDAR
VERSION:2.0
PRODID:-//ChamberMaster//Event Calendar 2.0//EN
METHOD:PUBLISH
X-PUBLISHED-TTL:P3D
REFRESH-INTERVAL:P3D
CALSCALE:GREGORIAN
BEGIN:VEVENT
DTSTART:20221113T210000Z
DTEND:20221113T230000Z
X-MICROSOFT-CDO-ALLDAYEVENT:FALSE
SUMMARY:Us Army Field Band & Soliders' Chorus Present: Heroes
DESCRIPTION:The U.S. Army Field Band & Soldiers' Chorus present "Heroes\," a celebration of people who have gone above and beyond for their communities. Join us on this musical journey while we share stories of strength\, determination\, and courage through the generations of those that answered our nation's call.
X-ALT-DESC;FMTTYPE=text/html:The U.S. Army Field Band &amp\; Soldiers&#39\; Chorus present &quot\;Heroes\,&quot\; a celebration of people who have gone above and beyond for their communities. Join us on this musical journey while we share stories of strength\, determination\, and courage through the generations of those that answered our nation&#39\;s call.
LOCATION:Stefanie H. Weill Center for the Performing Arts 826 N 8th St\, Sheboygan\, WI 53081
UID:e.361.18106
SEQUENCE:3
DTSTAMP:20260420T021220Z
URL:https://business.chambermanitowoccounty.org/events/details/us-army-field-band-soliders-chorus-present-heroes-18106
END:VEVENT

END:VCALENDAR
