BEGIN:VCALENDAR
VERSION:2.0
PRODID:-//ChamberMaster//Event Calendar 2.0//EN
METHOD:PUBLISH
X-PUBLISHED-TTL:P3D
REFRESH-INTERVAL:P3D
CALSCALE:GREGORIAN
BEGIN:VEVENT
DTSTART:20190504T230000Z
DTEND:20190505T020000Z
X-MICROSOFT-CDO-ALLDAYEVENT:FALSE
SUMMARY:Varshavski & Shapiro Piano Duo Concert
DESCRIPTION:Endries Hall Franciscan Center for Music Education and Performance Silver Lake College\, Manitowoc\, WI 6:00 p.m. Friday May 3\, 2019 Tickets sold at the door Senior Citizens $10.00 Adults $15.00 Children under twelve free admission
X-ALT-DESC;FMTTYPE=text/html:<span style="font-family:arial\,sans-serif\;"><span style="font-size:10.0pt\;">Endries Hall Franciscan Center for Music Education and Performance Silver Lake College\, Manitowoc\, WI 6:00 p.m. Friday May 3\, 2019 Tickets sold at the door Senior Citizens $10.00 Adults $15.00 Children under twelve free admission&nbsp\;</span></span>
LOCATION:Silver Lake College of the Holy Family 2406 S. Alverno Rd.\, Manitowoc
UID:e.361.14157
SEQUENCE:3
DTSTAMP:20260425T203314Z
URL:https://business.chambermanitowoccounty.org/events/details/varshavski-shapiro-piano-duo-concert-14157
END:VEVENT

END:VCALENDAR
