BEGIN:VCALENDAR
VERSION:2.0
PRODID:-//ChamberMaster//Event Calendar 2.0//EN
METHOD:PUBLISH
X-PUBLISHED-TTL:P3D
REFRESH-INTERVAL:P3D
CALSCALE:GREGORIAN
BEGIN:VEVENT
DTSTART:20181116T230000Z
DTEND:20181117T020000Z
X-MICROSOFT-CDO-ALLDAYEVENT:FALSE
SUMMARY:Warrens Restaurant Friday night Fish Fry
DESCRIPTION:Please join us for our Fish fry Friday nights!  We have lake perch\, cod\, haddock\, butterfly stuffed shrimp baskets and many more all under $14.00  We are open till 8PM Thursday thru Monday!
X-ALT-DESC;FMTTYPE=text/html:Please join us for our Fish fry Friday nights!&nbsp\; We have lake perch\, cod\, haddock\, butterfly stuffed shrimp baskets and many more all under $14.00&nbsp\; We are open till 8PM Thursday thru Monday! &nbsp\;
LOCATION:905 Washington Street Manitowoc WI 54220 920-682-2533
UID:e.361.11597
SEQUENCE:3
DTSTAMP:20260426T032545Z
URL:https://business.chambermanitowoccounty.org/events/details/warrens-restaurant-friday-night-fish-fry-11-16-2018-11597
END:VEVENT

END:VCALENDAR
