BEGIN:VCALENDAR
VERSION:2.0
PRODID:-//ChamberMaster//Event Calendar 2.0//EN
METHOD:PUBLISH
X-PUBLISHED-TTL:P3D
REFRESH-INTERVAL:P3D
CALSCALE:GREGORIAN
BEGIN:VEVENT
DTSTART:20211023T003000Z
DTEND:20211023T023000Z
X-MICROSOFT-CDO-ALLDAYEVENT:FALSE
SUMMARY:Water Street Dance Milwaukee
DESCRIPTION:Founded in 2019 by Artistic Director Morgan Williams\, Water Street Dance Milwaukee is a contemporary repertory dance company created on the foundations of authenticity\, collaborations and innovations. The company is made up of individual artists whose voices come together to manifest the diversity and visceral qualities ever present in the company's repertory. In 2019 Water Street Dance Milwaukee was named Overture Rising Stars winners\, recognizing the company's growth and potential in the Greater Arts community. "All I can say is go see this remarkable troupe as soon as there's another chance. They should be seen across the country." (Shepherd Express) Photography by Heather Mrotek
X-ALT-DESC;FMTTYPE=text/html:Founded in 2019 by Artistic Director Morgan Williams\, Water Street Dance Milwaukee is a contemporary repertory dance company created on the foundations of authenticity\, collaborations and innovations. The company is made up of individual artists whose voices come together to manifest the diversity and visceral qualities ever present in the company&#39\;s repertory. In 2019 Water Street Dance Milwaukee was named Overture Rising Stars winners\, recognizing the company&#39\;s growth and potential in the Greater Arts community. &quot\;All I can say is go see this remarkable troupe as soon as there&#39\;s another chance. They should be seen across the country.&quot\; (Shepherd Express) Photography by Heather Mrotek
LOCATION:Weill Center
UID:e.361.16644
SEQUENCE:3
DTSTAMP:20260422T212328Z
URL:https://business.chambermanitowoccounty.org/events/details/water-street-dance-milwaukee-16644
END:VEVENT

END:VCALENDAR
