BEGIN:VCALENDAR
VERSION:2.0
PRODID:-//ChamberMaster//Event Calendar 2.0//EN
METHOD:PUBLISH
X-PUBLISHED-TTL:P3D
REFRESH-INTERVAL:P3D
CALSCALE:GREGORIAN
BEGIN:VEVENT
DTSTART:20190515T110000Z
DTEND:20190516T020000Z
X-MICROSOFT-CDO-ALLDAYEVENT:FALSE
SUMMARY:Waters of Chicago
DESCRIPTION:Come and discover Chicago's water and see the Shedd Aquarium and the Skyline from the Chicago River. With over 32\,000 animals and 5\,000\,000 gallons of water\, the Shedd Aquarium will have something for everyone! Enjoy lunch and a view of the city on the Riverfront Lunch Cruise. Spend the rest of the afternoon seeing other local attractions including Lincoln Park Zoo\, Navy Pier and Millennium Park! Finish the day with a slice of Chicago style pizza before heading home!
X-ALT-DESC;FMTTYPE=text/html:Come and discover Chicago&rsquo\;s water and see the Shedd Aquarium and the Skyline from the Chicago River. With over 32\,000 animals and 5\,000\,000 gallons of water\, the Shedd Aquarium will have something for everyone! Enjoy lunch and a view of the city on the Riverfront Lunch Cruise. Spend the rest of the afternoon seeing other local attractions including Lincoln Park Zoo\, Navy Pier and Millennium Park! Finish the day with a slice of Chicago style pizza before heading home!
LOCATION:Chicago
UID:e.361.13795
SEQUENCE:3
DTSTAMP:20260425T203152Z
URL:https://business.chambermanitowoccounty.org/events/details/waters-of-chicago-13795
END:VEVENT

END:VCALENDAR
