BEGIN:VCALENDAR
VERSION:2.0
PRODID:-//ChamberMaster//Event Calendar 2.0//EN
METHOD:PUBLISH
X-PUBLISHED-TTL:P3D
REFRESH-INTERVAL:P3D
CALSCALE:GREGORIAN
BEGIN:VEVENT
DTSTART:20190309T010000Z
DTEND:20190309T030000Z
X-MICROSOFT-CDO-ALLDAYEVENT:FALSE
SUMMARY:Weill Center Family Series: The Magic of Bill Blagg Live!
DESCRIPTION:The MAGIC of BILL BLAGG LIVE! tour comes to the Stefanie H. Weill Center for the Performing Arts for one show only! Critics and audiences alike rave about Bill's interactive magic & jaw-dropping illusions that will have you rubbing your eyes in disbelief. Blagg's show combines his mind-blowing magical talents along with his trademark off-the-cuff personality to take you on a magical journey you'll never forget! You'll witness objects float in mid-air\, vanish in the blink of an eye and so much more! The MAGIC of BILL BLAGG LIVE! is more than a magic show\, it's an interactive magic experience!
X-ALT-DESC;FMTTYPE=text/html:The MAGIC of BILL BLAGG LIVE! tour comes to the Stefanie H. Weill Center for the Performing Arts for one show only! Critics and audiences alike rave about Bill&rsquo\;s interactive magic &amp\; jaw-dropping illusions that will have you rubbing your eyes in disbelief. Blagg&rsquo\;s show combines his mind-blowing magical talents along with his trademark off-the-cuff personality to take you on a magical journey you&rsquo\;ll never forget! You&rsquo\;ll witness objects float in mid-air\, vanish in the blink of an eye and so much more! The MAGIC of BILL BLAGG LIVE! is more than a magic show\, it&rsquo\;s an interactive magic experience!
LOCATION:826 N 8th St\, Sheboygan
UID:e.361.13804
SEQUENCE:3
DTSTAMP:20260425T225655Z
URL:https://business.chambermanitowoccounty.org/events/details/weill-center-family-series-the-magic-of-bill-blagg-live-13804
END:VEVENT

END:VCALENDAR
