BEGIN:VCALENDAR
VERSION:2.0
PRODID:-//ChamberMaster//Event Calendar 2.0//EN
METHOD:PUBLISH
X-PUBLISHED-TTL:P3D
REFRESH-INTERVAL:P3D
CALSCALE:GREGORIAN
BEGIN:VEVENT
DTSTART:20190303T010000Z
DTEND:20190303T030000Z
X-MICROSOFT-CDO-ALLDAYEVENT:FALSE
SUMMARY:Weill Center Gospel Series: The Garms Family
DESCRIPTION:EIGHT VOICES\, OVER 15 INSTRUMENTS\, ONE PURPOSE. The Garms Family brings a new take on Gospel music. Their style combines the best of Southern Gospel\, bluegrass\, original songs\, and hymns with a single purpose: Glorify Jesus Christ with one voice and encourage lives with the message and music of hope. It's not just family entertainment: A concert with The Garms Family is a life-changing experience.
X-ALT-DESC;FMTTYPE=text/html:EIGHT VOICES\, OVER 15 INSTRUMENTS\, ONE PURPOSE. The Garms Family brings a new take on Gospel music. Their style combines the best of Southern Gospel\, bluegrass\, original songs\, and hymns with a single purpose: Glorify Jesus Christ with one voice and encourage lives with the message and music of hope. It&rsquo\;s not just family entertainment: A concert with The Garms Family is a life-changing experience.
LOCATION:826 N 8th St\, Sheboygan\, WI
UID:e.361.13786
SEQUENCE:3
DTSTAMP:20260425T225658Z
URL:https://business.chambermanitowoccounty.org/events/details/weill-center-gospel-series-the-garms-family-13786
END:VEVENT

END:VCALENDAR
