BEGIN:VCALENDAR
VERSION:2.0
PRODID:-//ChamberMaster//Event Calendar 2.0//EN
METHOD:PUBLISH
X-PUBLISHED-TTL:P3D
REFRESH-INTERVAL:P3D
CALSCALE:GREGORIAN
BEGIN:VEVENT
DTSTART:20200829T140000Z
DTEND:20200829T161500Z
X-MICROSOFT-CDO-ALLDAYEVENT:FALSE
SUMMARY:Wellness at the Weill: Pound
DESCRIPTION:Join us for Wellness at the Weill - a series of fitness sessions using music\, movement and rhythm! Saturday\, August 29 sessions: Pound at 9:00 a.m. Pound at 10:30 a.m SESSION DETAILS - $20 per session - Advanced registration only - Limited spots available! - Includes one 45-minute session on the Weill Center stage - Includes one complimentary post-workout cocktail ABOUT POUND POUND  is the world's first cardio jam session inspired by the energizing\, exhilarating\, sweat dripping fun of playing the drums. Unleash your inner Rockstar and come #MAKENOISE at an upcoming class! ABOUT THE INSTRUCTOR Mary Shea has been leading POUND  classes at both YMCA locations since 2017. Like no other group fitness class\, Mary believes that there is no greater outlet for stress and tension release than striking Ripstix  to the beat of Rock music. POUND  is a place where the rhythm rules\, where the beat becomes us at every age and any stage. Mary's energy and enthusiasm motivate anyone attending her classes to leave it all on the floor. COVID-19 SAFETY INFORMATION - Masks are required in the venue until you reach your workout area. - If you don't bring a mask\, one will be available for purchase. - All workout areas will be socially distanced. Please respect social distancing guidelines and keep six feet apart in common areas. - Hand sanitizer stations will be located throughout the theater. - Areas will be cleaned and sanitized between events using EPA-approved products. - If you have recently been exposed to someone who tested positive for COVID-19 or are feeling ill\, please stay home! For the full list of safety information\, visit weillcenter.com/information/covid19. REGISTER online\, over the phone or in person. Ticket office is open Mondays and Wednesdays\, 12 - 4 p.m. Call: 920-208-3243 Visit: 826 N 8th St
X-ALT-DESC;FMTTYPE=text/html:Join us for Wellness at the Weill - a series of fitness sessions using music\, movement and rhythm! Saturday\, August 29 sessions: Pound at 9:00 a.m. Pound at 10:30 a.m SESSION DETAILS - $20 per session - Advanced registration only - Limited spots available! - Includes one 45-minute session on the Weill Center stage - Includes one complimentary post-workout cocktail ABOUT POUND POUND&reg\; is the world&rsquo\;s first cardio jam session inspired by the energizing\, exhilarating\, sweat dripping fun of playing the drums. Unleash your inner Rockstar and come #MAKENOISE at an upcoming class! ABOUT THE INSTRUCTOR Mary Shea has been leading POUND&reg\; classes at both YMCA locations since 2017. Like no other group fitness class\, Mary believes that there is no greater outlet for stress and tension release than striking Ripstix&reg\; to the beat of Rock music. POUND&reg\; is a place where the rhythm rules\, where the beat becomes us&hellip\;at every age and any stage. Mary&rsquo\;s energy and enthusiasm motivate anyone attending her classes to leave it all on the floor. COVID-19 SAFETY INFORMATION - Masks are required in the venue until you reach your workout area. - If you don&rsquo\;t bring a mask\, one will be available for purchase. - All workout areas will be socially distanced. Please respect social distancing guidelines and keep six feet apart in common areas. - Hand sanitizer stations will be located throughout the theater. - Areas will be cleaned and sanitized between events using EPA-approved products. - If you have recently been exposed to someone who tested positive for COVID-19 or are feeling ill\, please stay home! For the full list of safety information\, visit weillcenter.com/information/covid19. REGISTER online\, over the phone or in person. Ticket office is open Mondays and Wednesdays\, 12 - 4 p.m. Call: 920-208-3243 Visit: 826 N 8th St
LOCATION:
UID:e.361.15266
SEQUENCE:3
DTSTAMP:20260425T020256Z
URL:https://business.chambermanitowoccounty.org/events/details/wellness-at-the-weill-pound-08-29-2020-15266
END:VEVENT

END:VCALENDAR
