BEGIN:VCALENDAR
VERSION:2.0
PRODID:-//ChamberMaster//Event Calendar 2.0//EN
METHOD:PUBLISH
X-PUBLISHED-TTL:P3D
REFRESH-INTERVAL:P3D
CALSCALE:GREGORIAN
BEGIN:VEVENT
DTSTART:20200801T133000Z
DTEND:20200801T160000Z
X-MICROSOFT-CDO-ALLDAYEVENT:FALSE
SUMMARY:Wellness at the Weill: Yoga
DESCRIPTION:Join us for Wellness at the Weill - a series of fitness sessions using music\, movement and rhythm! Saturday\, August 1 sessions: Yoga at 8:30 a.m. Yoga at 10:00 a.m. SESSION DETAILS - $20 per session - Advanced registration only - Limited spots available! - Includes one 60-minute session on the Weill Center stage - Includes one complimentary post-workout cocktail ABOUT YOGA Yoga ?has become one of the most popular forms to increase physical and mental well-being. In this mind and body practice\, breathing techniques\, flexibility and strength\, and meditation are implemented to provide a relaxing exercise for anyone who needs to de-stress from their daily life. ABOUT THE INSTRUCTOR Katie Hammer\, Instructor at Yoga on the Lake COVID-19 SAFETY INFORMATION - Masks are required in the venue until you reach your workout area. - If you don't bring a mask\, one will be available for purchase. - All workout areas will be socially distanced. Please respect social distancing guidelines and keep six feet apart in common areas. - Hand sanitizer stations will be located throughout the theater. - Areas will be cleaned and sanitized between events using EPA-approved products. - If you have recently been exposed to someone who tested positive for COVID-19 or are feeling ill\, please stay home! For the full list of safety information\, visit weillcenter.com/information/covid19. REGISTER online\, over the phone or in person. Ticket office is open Mondays and Wednesdays\, 12 - 4 p.m. Call: 920-208-3243 Visit: 826 N 8th St
X-ALT-DESC;FMTTYPE=text/html:Join us for Wellness at the Weill - a series of fitness sessions using music\, movement and rhythm! Saturday\, August 1 sessions: Yoga at 8:30 a.m. Yoga at 10:00 a.m. SESSION DETAILS - $20 per session - Advanced registration only - Limited spots available! - Includes one 60-minute session on the Weill Center stage - Includes one complimentary post-workout cocktail ABOUT YOGA Yoga ?has become one of the most popular forms to increase physical and mental well-being. In this mind and body practice\, breathing techniques\, flexibility and strength\, and meditation are implemented to provide a relaxing exercise for anyone who needs to de-stress from their daily life. ABOUT THE INSTRUCTOR Katie Hammer\, Instructor at Yoga on the Lake COVID-19 SAFETY INFORMATION - Masks are required in the venue until you reach your workout area. - If you don&rsquo\;t bring a mask\, one will be available for purchase. - All workout areas will be socially distanced. Please respect social distancing guidelines and keep six feet apart in common areas. - Hand sanitizer stations will be located throughout the theater. - Areas will be cleaned and sanitized between events using EPA-approved products. - If you have recently been exposed to someone who tested positive for COVID-19 or are feeling ill\, please stay home! For the full list of safety information\, visit weillcenter.com/information/covid19. REGISTER online\, over the phone or in person. Ticket office is open Mondays and Wednesdays\, 12 - 4 p.m. Call: 920-208-3243 Visit: 826 N 8th St
LOCATION:
UID:e.361.15262
SEQUENCE:3
DTSTAMP:20260425T031858Z
URL:https://business.chambermanitowoccounty.org/events/details/wellness-at-the-weill-yoga-15262
END:VEVENT

END:VCALENDAR
