BEGIN:VCALENDAR
VERSION:2.0
PRODID:-//ChamberMaster//Event Calendar 2.0//EN
METHOD:PUBLISH
X-PUBLISHED-TTL:P3D
REFRESH-INTERVAL:P3D
CALSCALE:GREGORIAN
BEGIN:VEVENT
DTSTART:20200725T140000Z
DTEND:20200725T161500Z
X-MICROSOFT-CDO-ALLDAYEVENT:FALSE
SUMMARY:Wellness at the Weill: Zumba
DESCRIPTION:Join us for Wellness at the Weill - a series of fitness sessions using music\, movement and rhythm! Saturday\, July 25 sessions: Zumba at 9:00 a.m. Zumba at 10:30 a.m. SESSION DETAILS - $20 per session - Advanced registration only - Limited spots available! - Includes one 45-minute session on the Weill Center stage - Includes one complimentary post-workout cocktail ABOUT ZUMBA Zumba is a?n aerobic exercise class to party yourself into shape with a choreographed\, Latin-inspired workout. This dance-infused fitness class will have you burning calories while boosting your energy. Get ready to let the Latin rhythms take over your body with a mix of cardio\, muscle conditioning\, balance and flexibility. ABOUT THE INSTRUCTOR Amanda Salazar has over 10 years of instructor experience. She is certified in Zumba\, Zumba Kids + Jr. Zumba is a total workout\, combining all elements of fitness   cardio\, muscle conditioning\, balance and flexibility\, boosted energy and a serious dose of awesome each time you leave class. COVID-19 SAFETY INFORMATION - Masks are required in the venue until you reach your workout area. - If you don't bring a mask\, one will be available for purchase. - All workout areas will be socially distanced. Please respect social distancing guidelines and keep six feet apart in common areas. - Hand sanitizer stations will be located throughout the theater. - Areas will be cleaned and sanitized between events using EPA-approved products. - If you have recently been exposed to someone who tested positive for COVID-19 or are feeling ill\, please stay home! For the full list of safety information\, visit weillcenter.com/information/covid19. REGISTER online\, over the phone or in person. Ticket office is open Mondays and Wednesdays\, 12 - 4 p.m. Call: 920-208-3243 Visit: 826 N 8th St
X-ALT-DESC;FMTTYPE=text/html:Join us for Wellness at the Weill - a series of fitness sessions using music\, movement and rhythm! Saturday\, July 25 sessions: Zumba at 9:00 a.m. Zumba at 10:30 a.m. SESSION DETAILS - $20 per session - Advanced registration only - Limited spots available! - Includes one 45-minute session on the Weill Center stage - Includes one complimentary post-workout cocktail ABOUT ZUMBA Zumba is a?n aerobic exercise class to party yourself into shape with a choreographed\, Latin-inspired workout. This dance-infused fitness class will have you burning calories while boosting your energy. Get ready to let the Latin rhythms take over your body with a mix of cardio\, muscle conditioning\, balance and flexibility. ABOUT THE INSTRUCTOR Amanda Salazar has over 10 years of instructor experience. She is certified in Zumba\, Zumba Kids + Jr. Zumba is a total workout\, combining all elements of fitness &ndash\; cardio\, muscle conditioning\, balance and flexibility\, boosted energy and a serious dose of awesome each time you leave class. COVID-19 SAFETY INFORMATION - Masks are required in the venue until you reach your workout area. - If you don&rsquo\;t bring a mask\, one will be available for purchase. - All workout areas will be socially distanced. Please respect social distancing guidelines and keep six feet apart in common areas. - Hand sanitizer stations will be located throughout the theater. - Areas will be cleaned and sanitized between events using EPA-approved products. - If you have recently been exposed to someone who tested positive for COVID-19 or are feeling ill\, please stay home! For the full list of safety information\, visit weillcenter.com/information/covid19. REGISTER online\, over the phone or in person. Ticket office is open Mondays and Wednesdays\, 12 - 4 p.m. Call: 920-208-3243 Visit: 826 N 8th St
LOCATION:Weill Center
UID:e.361.15261
SEQUENCE:3
DTSTAMP:20260425T031652Z
URL:https://business.chambermanitowoccounty.org/events/details/wellness-at-the-weill-zumba-15261
END:VEVENT

END:VCALENDAR
