BEGIN:VCALENDAR
VERSION:2.0
PRODID:-//ChamberMaster//Event Calendar 2.0//EN
METHOD:PUBLISH
X-PUBLISHED-TTL:P3D
REFRESH-INTERVAL:P3D
CALSCALE:GREGORIAN
BEGIN:VEVENT
DTSTART:20191119T170000Z
DTEND:20191120T000000Z
X-MICROSOFT-CDO-ALLDAYEVENT:FALSE
SUMMARY:WFS Innovation Industrial Expo
DESCRIPTION:Our Annual In-House Trade Show is coming soon! If you've never been to our Manitowoc warehouse\, this would be a great time to bring your team and check it out! This Annual Event has become very popular over the years. We enjoy giving our customers the chance to meet with manufacturer's Reps right here locally\, without having to travel for a Trade Show. You can also check our our new line of sleek looking Vending Machines! It's educational\, there are door prizes and best of all\, delicious burgers from our famous local eatery Late's Drive In!
X-ALT-DESC;FMTTYPE=text/html:Our Annual In-House Trade Show is coming soon! If you&rsquo\;ve never been to our Manitowoc warehouse\, this would be a great time to bring your team and check it out! This Annual Event has become very popular over the years. We enjoy giving our customers the chance to meet with manufacturer&rsquo\;s Reps right here locally\, without having to travel for a Trade Show. You can also check our our new line of sleek looking Vending Machines! It&rsquo\;s educational\, there are door prizes and best of all\, delicious burgers from our famous local eatery Late&rsquo\;s Drive In!
LOCATION:Wisconsin Fastener Supply 4449 Custer Street Manitowoc
UID:e.361.14827
SEQUENCE:3
DTSTAMP:20260425T131358Z
URL:https://business.chambermanitowoccounty.org/events/details/wfs-innovation-industrial-expo-14827
END:VEVENT

END:VCALENDAR
