BEGIN:VCALENDAR
VERSION:2.0
PRODID:-//ChamberMaster//Event Calendar 2.0//EN
METHOD:PUBLISH
X-PUBLISHED-TTL:P3D
REFRESH-INTERVAL:P3D
CALSCALE:GREGORIAN
BEGIN:VEVENT
DTSTART:20221120T013000Z
DTEND:20221120T033000Z
X-MICROSOFT-CDO-ALLDAYEVENT:FALSE
SUMMARY:Who Hijacked My Fairy Tale? Starring Kelly Swanson
DESCRIPTION:A modern-day fairy tale... Step into the magical\, heartwarming\, incredibly funny journey of a wayward southern belle who went from being a shy child who tried to be invisible\, to a tacky woman who just won't shut up. This story starts and ends on the other side of the fairy tale - the place the books and movies never showed you. To the land of muffin tops and turkey necks\, ungrateful children\, and fairy dust that turned out to be just dust. Award-winning storyteller\, comedian\, and author\, Kelly Swanson\, will have you laughing your way through her twisted journey to a happier ever after. And just when you least expect\, your heart gets tugged on. But that isn't the true magic of this show... The true magic of this show isn't just the comedy and the stories. It's a show that's also about YOU. For as you walk through Kelly's story\, you find yourself standing in your own\, and realizing that it's not too late to find your own happier ever after. A night you'll never forget. A message you'll always remember. Grab your girlfriends and share the experience. in one colossal girls' night out. BECAUSE IT'S NEVER TOO LATE TO WRITE A NEW ENDING TO YOUR FAIRY TALE.
X-ALT-DESC;FMTTYPE=text/html:A modern-day fairy tale... Step into the magical\, heartwarming\, incredibly funny journey of a wayward southern belle who went from being a shy child who tried to be invisible\, to a tacky woman who just won&#39\;t shut up. This story starts and ends on the other side of the fairy tale - the place the books and movies never showed you. To the land of muffin tops and turkey necks\, ungrateful children\, and fairy dust that turned out to be just dust. Award-winning storyteller\, comedian\, and author\, Kelly Swanson\, will have you laughing your way through her twisted journey to a happier ever after. And just when you least expect\, your heart gets tugged on. But that isn&#39\;t the true magic of this show... The true magic of this show isn&#39\;t just the comedy and the stories. It&#39\;s a show that&#39\;s also about YOU. For as you walk through Kelly&#39\;s story\, you find yourself standing in your own\, and realizing that it&#39\;s not too late to find your own happier ever after. A night you&#39\;ll never forget. A message you&#39\;ll always remember. Grab your girlfriends and share the experience. in one colossal girls&#39\; night out. BECAUSE IT&#39\;S NEVER TOO LATE TO WRITE A NEW ENDING TO YOUR FAIRY TALE.
LOCATION:Weill Center
UID:e.361.17947
SEQUENCE:3
DTSTAMP:20260420T021650Z
URL:https://business.chambermanitowoccounty.org/events/details/who-hijacked-my-fairy-tale-starring-kelly-swanson-17947
END:VEVENT

END:VCALENDAR
