BEGIN:VCALENDAR
VERSION:2.0
PRODID:-//ChamberMaster//Event Calendar 2.0//EN
METHOD:PUBLISH
X-PUBLISHED-TTL:P3D
REFRESH-INTERVAL:P3D
CALSCALE:GREGORIAN
BEGIN:VEVENT
DTSTART:20230211T213000Z
DTEND:20230211T230000Z
X-MICROSOFT-CDO-ALLDAYEVENT:FALSE
SUMMARY:Wine\, Cheese\, & Chocolate Pairing at Farm Wisconsin
DESCRIPTION:Wine down with your valentine Saturday\, February 11 at Farm Wisconsin Discovery Center! Whether it's the gals or your special someone for Valentine's Day\, enjoy an afternoon of tastefully paired cheeses\, chocolate\, and wines. Participants will learn about and taste three different cheeses\, four wines\, and one chocolate. Joining us as presenters will be Clara Hedrich of LaClare Creamery\, Kevin Stoer of LondonDairy Alpacas\, and Chris from Renee's Specialty Chocolates. Claim your spot today! https://securepayment.link/farmwisconsin/workshops/
X-ALT-DESC;FMTTYPE=text/html:Wine down with your valentine Saturday\, February 11 at Farm Wisconsin Discovery Center! Whether it&rsquo\;s the gals or your special someone for Valentine&rsquo\;s Day\, enjoy an afternoon of tastefully paired cheeses\, chocolate\, and wines. Participants will learn about and taste three different cheeses\, four wines\, and one chocolate. Joining us as presenters will be Clara Hedrich of LaClare Creamery\, Kevin Stoer of LondonDairy Alpacas\, and Chris from Renee&rsquo\;s Specialty Chocolates. Claim your spot today! https://securepayment.link/farmwisconsin/workshops/
LOCATION:Farm Wisconsin Discovery Center
UID:e.361.18410
SEQUENCE:3
DTSTAMP:20260419T220844Z
URL:https://business.chambermanitowoccounty.org/events/details/wine-cheese-chocolate-pairing-at-farm-wisconsin-18410
END:VEVENT

END:VCALENDAR
