BEGIN:VCALENDAR
VERSION:2.0
PRODID:-//ChamberMaster//Event Calendar 2.0//EN
METHOD:PUBLISH
X-PUBLISHED-TTL:P3D
REFRESH-INTERVAL:P3D
CALSCALE:GREGORIAN
BEGIN:VEVENT
DTSTART:20200131T010000Z
DTEND:20200131T020000Z
X-MICROSOFT-CDO-ALLDAYEVENT:FALSE
SUMMARY:Wine + Yoga
DESCRIPTION:Tickets   https://bit.ly/36nEwUz\n\n\n\n  Experience Wine + Yoga at the breathtaking Sepia Chapel on the waterfront of Two Rivers\, WI. Beautiful chandeliers illuminate the newly remodeled space\; along with a serene waterfall feature! This is truly going to be a picturesque class.\n\n\n\nAriane Gunderson\, owner of Waves Yoga Studio will be guiding a 60 min. all levels yoga flow. Enjoy a free glass of wine during class!\n\n\n\nWhen: Thursday\, January 30th\n\nTime: 7:00pm-8:00pm\n\nCost: $20   Day of event: $25\n\n\n\n*Bring a yoga mat or large blanket.\n\n\n\nTickets   https://bit.ly/36nEwUz
X-ALT-DESC;FMTTYPE=text/html:<span style="color: rgb(29\, 33\, 41)\; font-family: Helvetica\, Arial\, sans-serif\; font-size: 14px\; white-space: pre-wrap\;">Tickets &#128073\; </span><a data-lynx-mode="hover" data-lynx-uri="https://l.facebook.com/l.php?u=https%3A%2F%2Fbit.ly%2F36nEwUz%3Ffbclid%3DIwAR1nYNBDgQ77Wy9FLivCm4ZnkwLP7mvAvyEB-Yug0E69ti0dXTwawplEyHY&amp\;h=AT0zOjse2NwjXiGTwrkCuaWD-3V6jCEOGzMRQrzCcLs6PIkfCxVO9bxSSdCwaQ1jk4AMq6EFAkTVeY_o8Jkp8y4ug6qAz7vcI4MQPp-IVFFyLTzYTJCSdDHLBtG1rK5OHQ" href="https://clients.mindbodyonline.com/ASP/main_enroll.asp?tg=&amp\;vt=&amp\;lvl=&amp\;stype=-8&amp\;view=day&amp\;trn=0&amp\;page=&amp\;catid=&amp\;prodid=&amp\;date=01/30/20&amp\;classid=0&amp\;prodGroupId=&amp\;sSU=&amp\;optForwardingLink=&amp\;qParam=&amp\;justloggedin=&amp\;nLgIn=&amp\;pMode=0&amp\;loc=1&amp\;fbclid=IwAR1Lq8mEtvl9vDDyymL5Lx_1odGved4F2hOJdURt1s1RsXFgrdhH2kfAttg" rel="nofollow noopener" style="color: rgb(56\, 88\, 152)\; cursor: pointer\; text-decoration-line: none\; font-family: Helvetica\, Arial\, sans-serif\; font-size: 14px\; white-space: pre-wrap\;" target="_blank">https://bit.ly/36nEwUz</a><br style="color: rgb(29\, 33\, 41)\; font-family: Helvetica\, Arial\, sans-serif\; font-size: 14px\; white-space: pre-wrap\;" />\n<br style="color: rgb(29\, 33\, 41)\; font-family: Helvetica\, Arial\, sans-serif\; font-size: 14px\; white-space: pre-wrap\;" />\n<span style="color: rgb(29\, 33\, 41)\; font-family: Helvetica\, Arial\, sans-serif\; font-size: 14px\; white-space: pre-wrap\;">&#10024\; Experience Wine + Yoga at the breathtaking Sepia Chapel on the waterfront of Two Rivers\, WI. Beautiful chandeliers illuminate the newly remodeled space\; along with a serene waterfall feature! This is truly going to be a picturesque class.</span><br style="color: rgb(29\, 33\, 41)\; font-family: Helvetica\, Arial\, sans-serif\; font-size: 14px\; white-space: pre-wrap\;" />\n<br style="color: rgb(29\, 33\, 41)\; font-family: Helvetica\, Arial\, sans-serif\; font-size: 14px\; white-space: pre-wrap\;" />\n<span style="color: rgb(29\, 33\, 41)\; font-family: Helvetica\, Arial\, sans-serif\; font-size: 14px\; white-space: pre-wrap\;">Ariane Gunderson\, owner of Waves Yoga Studio will be guiding a 60 min. all levels yoga flow. Enjoy a free glass of wine during class!</span><br style="color: rgb(29\, 33\, 41)\; font-family: Helvetica\, Arial\, sans-serif\; font-size: 14px\; white-space: pre-wrap\;" />\n<br style="color: rgb(29\, 33\, 41)\; font-family: Helvetica\, Arial\, sans-serif\; font-size: 14px\; white-space: pre-wrap\;" />\n<span style="color: rgb(29\, 33\, 41)\; font-family: Helvetica\, Arial\, sans-serif\; font-size: 14px\; white-space: pre-wrap\;">When: Thursday\, January 30th</span><br style="color: rgb(29\, 33\, 41)\; font-family: Helvetica\, Arial\, sans-serif\; font-size: 14px\; white-space: pre-wrap\;" />\n<span style="color: rgb(29\, 33\, 41)\; font-family: Helvetica\, Arial\, sans-serif\; font-size: 14px\; white-space: pre-wrap\;">Time: 7:00pm-8:00pm</span><br style="color: rgb(29\, 33\, 41)\; font-family: Helvetica\, Arial\, sans-serif\; font-size: 14px\; white-space: pre-wrap\;" />\n<span style="color: rgb(29\, 33\, 41)\; font-family: Helvetica\, Arial\, sans-serif\; font-size: 14px\; white-space: pre-wrap\;">Cost: $20 &bull\; Day of event: $25</span><br style="color: rgb(29\, 33\, 41)\; font-family: Helvetica\, Arial\, sans-serif\; font-size: 14px\; white-space: pre-wrap\;" />\n<br style="color: rgb(29\, 33\, 41)\; font-family: Helvetica\, Arial\, sans-serif\; font-size: 14px\; white-space: pre-wrap\;" />\n<span style="color: rgb(29\, 33\, 41)\; font-family: Helvetica\, Arial\, sans-serif\; font-size: 14px\; white-space: pre-wrap\;">*Bring a yoga mat or large blanket.</span><br style="color: rgb(29\, 33\, 41)\; font-family: Helvetica\, Arial\, sans-serif\; font-size: 14px\; white-space: pre-wrap\;" />\n<br style="color: rgb(29\, 33\, 41)\; font-family: Helvetica\, Arial\, sans-serif\; font-size: 14px\; white-space: pre-wrap\;" />\n<span style="color: rgb(29\, 33\, 41)\; font-family: Helvetica\, Arial\, sans-serif\; font-size: 14px\; white-space: pre-wrap\;">Tickets &#128073\; </span><a data-lynx-mode="hover" href="https://clients.mindbodyonline.com/ASP/main_enroll.asp?tg=&amp\;vt=&amp\;lvl=&amp\;stype=-8&amp\;view=day&amp\;trn=0&amp\;page=&amp\;catid=&amp\;prodid=&amp\;date=01/30/20&amp\;classid=0&amp\;prodGroupId=&amp\;sSU=&amp\;optForwardingLink=&amp\;qParam=&amp\;justloggedin=&amp\;nLgIn=&amp\;pMode=0&amp\;loc=1&amp\;fbclid=IwAR1Lq8mEtvl9vDDyymL5Lx_1odGved4F2hOJdURt1s1RsXFgrdhH2kfAttg" rel="nofollow noopener" style="color: rgb(56\, 88\, 152)\; cursor: pointer\; text-decoration-line: none\; font-family: Helvetica\, Arial\, sans-serif\; font-size: 14px\; white-space: pre-wrap\;" target="_blank">https://bit.ly/36nEwUz</a>
LOCATION:Sepia Chapel 1820 Jefferson St. Two Rivers\, WI 54241
UID:e.361.14901
SEQUENCE:3
DTSTAMP:20260425T105056Z
URL:https://business.chambermanitowoccounty.org/events/details/wine-yoga-14901
END:VEVENT

END:VCALENDAR
