BEGIN:VCALENDAR
VERSION:2.0
PRODID:-//ChamberMaster//Event Calendar 2.0//EN
METHOD:PUBLISH
X-PUBLISHED-TTL:P3D
REFRESH-INTERVAL:P3D
CALSCALE:GREGORIAN
BEGIN:VEVENT
DTSTART:20220326T130000Z
DTEND:20220326T203000Z
X-MICROSOFT-CDO-ALLDAYEVENT:FALSE
SUMMARY:Wisconsin State Genealogical Society 2022 Gene-A-Rama
DESCRIPTION:W.S.G.S. 2020 Gene-A-Rama Genealogy Conference "Telling Your Families Stories". March 25th & 26th\, 2022\, at the Holiday Inn\, 4601 Calumet Avenue\, Manitowoc\, WI 54220. Featured Speaker: Michael D. Lacopo D.V.M.\, also with Lee Grady\, Karen V. Humiston\, Russell Horton\, and Anne Kasuboski. The host society is the Manitowoc County Genealogical Society. For more information please visit www.WSGS.org
X-ALT-DESC;FMTTYPE=text/html:W.S.G.S. 2020 Gene-A-Rama Genealogy Conference &quot\;Telling Your Families Stories&quot\;. March 25th &amp\; 26th\, 2022\, at the Holiday Inn\, 4601 Calumet Avenue\, Manitowoc\, WI 54220. Featured Speaker: Michael D. Lacopo D.V.M.\, also with Lee Grady\, Karen V. Humiston\, Russell Horton\, and Anne Kasuboski. The host society is the Manitowoc County Genealogical Society. For more information please visit www.WSGS.org
LOCATION:Holiday Inn - Manitowoc\, 4601 Calumet Avenue\, Manitowoc\, WI 54220
UID:e.361.17249
SEQUENCE:3
DTSTAMP:20260422T144151Z
URL:https://business.chambermanitowoccounty.org/events/details/wisconsin-state-genealogical-society-2022-gene-a-rama-03-26-2022-17249
END:VEVENT

END:VCALENDAR
