BEGIN:VCALENDAR
VERSION:2.0
PRODID:-//ChamberMaster//Event Calendar 2.0//EN
METHOD:PUBLISH
X-PUBLISHED-TTL:P3D
REFRESH-INTERVAL:P3D
CALSCALE:GREGORIAN
BEGIN:VEVENT
DTSTART:20220325T130000Z
DTEND:20220325T220000Z
X-MICROSOFT-CDO-ALLDAYEVENT:FALSE
SUMMARY:Wisconsin State Genealogical Society 2022 Gene-A-Rama
DESCRIPTION:W.S.G.S. 2022 Gene-A-Rama Genealogy Conference "Telling Your Families Stories" March 25th & 26th\, 2022. Featured speaker: Michael D. Lacopo D.V.M.\, along with Lee Grady\, Karen V. Humiston\, Russell Horton\, and Anne Kasuboski. Host Society is the Manitowoc County Genealogical Society. For more information on sessions\, speakers\, meals & accommodations visit www.WSGS.org
X-ALT-DESC;FMTTYPE=text/html:W.S.G.S. 2022 Gene-A-Rama Genealogy Conference &quot\;Telling Your Families Stories&quot\; March 25th &amp\; 26th\, 2022. Featured speaker: Michael D. Lacopo D.V.M.\, along with Lee Grady\, Karen V. Humiston\, Russell Horton\, and Anne Kasuboski. Host Society is the Manitowoc County Genealogical Society. For more information on sessions\, speakers\, meals &amp\; accommodations visit www.WSGS.org
LOCATION:As of 2/21/2022 this event has been moved to a Virtual Only event. Attendees will have access to sessions up to two weeks after the event.
UID:e.361.17248
SEQUENCE:3
DTSTAMP:20260422T144024Z
URL:https://business.chambermanitowoccounty.org/events/details/wisconsin-state-genealogical-society-2022-gene-a-rama-17248
END:VEVENT

END:VCALENDAR
