BEGIN:VCALENDAR
VERSION:2.0
PRODID:-//ChamberMaster//Event Calendar 2.0//EN
METHOD:PUBLISH
X-PUBLISHED-TTL:P3D
REFRESH-INTERVAL:P3D
CALSCALE:GREGORIAN
BEGIN:VEVENT
DTSTART:20200226T233000Z
DTEND:20200227T010000Z
X-MICROSOFT-CDO-ALLDAYEVENT:FALSE
SUMMARY:YP Connect - Axe Throwing at Tapped on the Lakeshore
DESCRIPTION:Join the Young Professionals of Manitowoc County for an evening of networking & axe throwing at Tapped on the Lakeshore!  We will be meeting at 5:30 PM to get setup. Axe throwing will start promptly at 6:00 until 7:00. Cost for an hour of axe throwing is $15. Teams will be setup at random!  MUST BE 21 OR OLDER TO THROW AXES.\n\n \n\nTo make sure we stay on time\, please complete the waiver (click here) prior to coming to the event!\n\n \n\nIndividuals may sign up for the event only without axe throwing at no cost.  Come mingle even if you're not interested in axe throwing.  There are plenty of other non-axe throwing games available as well.\n\n\n\n(Axe throwing is limited to 20 people\, so please sign up before spots are filled. All cancellations within 48 hours of the event are non-refundable).
X-ALT-DESC;FMTTYPE=text/html:<span style="font-size:14px\;"><span style="font-family:arial\;">Join the Young Professionals of Manitowoc County for an evening of networking &amp\; axe throwing at Tapped on the Lakeshore!&nbsp\; We will be meeting at 5:30 PM to get setup. Axe throwing will start promptly at 6:00 until 7:00. Cost for an hour of axe throwing is $15. Teams will be setup at random!&nbsp\; MUST BE 21 OR OLDER TO THROW AXES.<br />\n&nbsp\;<br />\nTo make sure we stay on time\, please complete the waiver (<a href="https://chambermaster.blob.core.windows.net/userfiles/UserFiles/chambers/361/File/Young_Professionals_of_Manitowoc_County/events/Tappedwaiver00000002.pdf">click here</a>) prior to coming to the event!<br />\n&nbsp\;<br />\nIndividuals may sign up for the event only without axe throwing at no cost.&nbsp\; Come mingle even if you&rsquo\;re not interested in axe throwing.&nbsp\; There are plenty of other non-axe throwing games available as well.<br />\n<br />\n(A</span></span><em><span style="font-family:calibri\,sans-serif\;"><span style="font-size:11.0pt\;">xe throwing is limited to 20 people\, so please sign up before spots are filled. All cancellations within 48 hours of the event are non-refundable</span></span></em><em><span style="font-family:calibri\,sans-serif\;"><span style="font-size:11.0pt\;">).&nbsp\;</span></span></em>
LOCATION:Tapped on the Lakeshore 3114 Memorial Dr. Two Rivers\, WI 54241
UID:e.361.14907
SEQUENCE:3
DTSTAMP:20260425T104623Z
URL:https://business.chambermanitowoccounty.org/events/details/yp-connect-axe-throwing-at-tapped-on-the-lakeshore-14907
END:VEVENT

END:VCALENDAR
