BEGIN:VCALENDAR
VERSION:2.0
PRODID:-//ChamberMaster//Event Calendar 2.0//EN
METHOD:PUBLISH
X-PUBLISHED-TTL:P3D
REFRESH-INTERVAL:P3D
CALSCALE:GREGORIAN
BEGIN:VEVENT
DTSTART:20230419T220000Z
DTEND:20230420T000000Z
X-MICROSOFT-CDO-ALLDAYEVENT:FALSE
SUMMARY:YP CONNECT: Connect over Cocktails
DESCRIPTION:Connect with fellow young professionals while learning the basic of mixology with James at Waterfront Wine Bar! Participants will learn all of the basics and get behind the bar to practice their new skills to make cocktails that they can then enjoy.
X-ALT-DESC;FMTTYPE=text/html:<span style="font-family:calibri\,sans-serif\;"><span style="font-size:11.0pt\;">&nbsp\;Connect with fellow young professionals while learning the basic of mixology with James at Waterfront Wine Bar! Participants will learn all of the basics and get behind the bar to practice their new skills to make cocktails that they can then enjoy.&nbsp\;</span></span>
LOCATION:Waterfront Wine Bar 2 N Eighth St. Manitowoc\, WI 54220
UID:e.361.18664
SEQUENCE:3
DTSTAMP:20260419T190609Z
URL:https://business.chambermanitowoccounty.org/events/details/yp-connect-connect-over-cocktails-18664
END:VEVENT

END:VCALENDAR
