BEGIN:VCALENDAR
VERSION:2.0
PRODID:-//ChamberMaster//Event Calendar 2.0//EN
METHOD:PUBLISH
X-PUBLISHED-TTL:P3D
REFRESH-INTERVAL:P3D
CALSCALE:GREGORIAN
BEGIN:VEVENT
DTSTART:20230726T220000Z
DTEND:20230727T000000Z
X-MICROSOFT-CDO-ALLDAYEVENT:FALSE
SUMMARY:YP Connect: Cool City Brewery
DESCRIPTION:Join the Young Professionals of Manitowoc County for a get together and brewery tour at Cool City Brewing in the heart of downtown Two Rivers. Enjoy an evening of networking\, food\, and beverages with other young professionals in a space with the perfect blend of craft food and drinks.
X-ALT-DESC;FMTTYPE=text/html:Join the Young Professionals of Manitowoc County for a get together and brewery tour at Cool City Brewing in the heart of downtown Two Rivers. Enjoy an evening of networking\, food\, and beverages with other young professionals in a space with the perfect blend of craft food and drinks.
LOCATION:Cool City Brewing Company 1718 West Park St. Two Rivers
UID:e.361.18935
SEQUENCE:3
DTSTAMP:20260419T143421Z
URL:https://business.chambermanitowoccounty.org/events/details/yp-connect-cool-city-brewery-18935
END:VEVENT

END:VCALENDAR
