BEGIN:VCALENDAR
VERSION:2.0
PRODID:-//ChamberMaster//Event Calendar 2.0//EN
METHOD:PUBLISH
X-PUBLISHED-TTL:P3D
REFRESH-INTERVAL:P3D
CALSCALE:GREGORIAN
BEGIN:VEVENT
DTSTART:20220309T230000Z
DTEND:20220310T010000Z
X-MICROSOFT-CDO-ALLDAYEVENT:FALSE
SUMMARY:YP Connect: Game Night at PetSkull Brewing Company
DESCRIPTION:
X-ALT-DESC;FMTTYPE=text/html:
LOCATION:PetSkull Brewing Company 1015 Buffalo St. Manitowoc
UID:e.361.17255
SEQUENCE:3
DTSTAMP:20260422T143625Z
URL:https://business.chambermanitowoccounty.org/events/details/yp-connect-game-night-at-petskull-brewing-company-17255
END:VEVENT

END:VCALENDAR
