BEGIN:VCALENDAR
VERSION:2.0
PRODID:-//ChamberMaster//Event Calendar 2.0//EN
METHOD:PUBLISH
X-PUBLISHED-TTL:P3D
REFRESH-INTERVAL:P3D
CALSCALE:GREGORIAN
BEGIN:VEVENT
DTSTART:20230226T193000Z
DTEND:20230226T210000Z
X-MICROSOFT-CDO-ALLDAYEVENT:FALSE
SUMMARY:YP CONNECT: Ice Skating
DESCRIPTION:Sharpen those blades\, and lace up those skates for an afternoon of Ice Skating.  Join the Young Professionals of Manitowoc County for open skate at the Manitowoc County Expo Ice Center from 1:30-3:00 PM on Sunday\, February 26.  This is the last open-skate of the season\, so don't miss out of one of your last opportunities to ice skate this winter.   This is a family-friendly event!
X-ALT-DESC;FMTTYPE=text/html:<span style="font-family:calibri\,sans-serif\;"><span style="font-size:11.0pt\;">Sharpen those blades\, and lace up those skates for an afternoon of Ice Skating.&nbsp\; Join the Young Professionals of Manitowoc County for open skate at the Manitowoc County Expo Ice Center from 1:30-3:00 PM on Sunday\, February 26.&nbsp\; This is the last open-skate of the season\, so don&#39\;t miss out of one of your last opportunities to ice skate this winter.&nbsp\; &nbsp\;This is a family-friendly event!</span></span>
LOCATION:Manitowoc County Expo Ice Center 4931 Expo Dr\, Manitowoc\, WI 54220
UID:e.361.18401
SEQUENCE:3
DTSTAMP:20260419T220343Z
URL:https://business.chambermanitowoccounty.org/events/details/yp-connect-ice-skating-18401
END:VEVENT

END:VCALENDAR
