BEGIN:VCALENDAR
VERSION:2.0
PRODID:-//ChamberMaster//Event Calendar 2.0//EN
METHOD:PUBLISH
X-PUBLISHED-TTL:P3D
REFRESH-INTERVAL:P3D
CALSCALE:GREGORIAN
BEGIN:VEVENT
DTSTART:20221005T220000Z
DTEND:20221006T000000Z
X-MICROSOFT-CDO-ALLDAYEVENT:FALSE
SUMMARY:YP Connect: Networking at The Elbow Room
DESCRIPTION:Join Young Professionals of Manitowoc County for a get together at the newly renovated Elbow Room in Manitowoc.  Enjoy an evening of networking\, food\, and beverages with other young professionals!
X-ALT-DESC;FMTTYPE=text/html:Join Young Professionals of Manitowoc County for a get together at the newly renovated Elbow Room in Manitowoc.&nbsp\; Enjoy an evening of networking\, food\, and beverages with other young professionals!&nbsp\;&nbsp\;
LOCATION:The Elbow Room 702 Buffalo St. Manitowoc
UID:e.361.18045
SEQUENCE:3
DTSTAMP:20260420T033305Z
URL:https://business.chambermanitowoccounty.org/events/details/yp-connect-networking-at-the-elbow-room-18045
END:VEVENT

END:VCALENDAR
