BEGIN:VCALENDAR
VERSION:2.0
PRODID:-//ChamberMaster//Event Calendar 2.0//EN
METHOD:PUBLISH
X-PUBLISHED-TTL:P3D
REFRESH-INTERVAL:P3D
CALSCALE:GREGORIAN
BEGIN:VEVENT
DTSTART:20181129T230000Z
DTEND:20181130T010000Z
X-MICROSOFT-CDO-ALLDAYEVENT:FALSE
SUMMARY:YP Connect-Networking at What the Lock?
DESCRIPTION:Join a group of fellow young professionals to try out Manitowoc's own escape room - What the Lock?  Participants will be randomly broken into 3-4 groups  and will spend between 1 1/2 and 2 hours trying to escape from their room.  This is a great opportunity to network and meet other YPs\, and also to try out What the Lock? at a discounted price!
X-ALT-DESC;FMTTYPE=text/html:<span style="color:#1F497D\;"><span style="font-family:calibri\,sans-serif\;"><span style="font-size:12.0pt\;">Join a group of fellow young professionals to try out Manitowoc&#39\;s own escape room - What the Lock?&nbsp\; Participants will be randomly broken into 3-4 groups&nbsp\; and will spend between 1 1/2 and 2 hours trying to escape from their room.&nbsp\; This is a great opportunity to network and meet other YPs\, and also to try out What the Lock? at a discounted price!</span></span></span>
LOCATION:What the Lock? 1130 Washington St Manitowoc\, WI
UID:e.361.13566
SEQUENCE:3
DTSTAMP:20260426T031813Z
URL:https://business.chambermanitowoccounty.org/events/details/yp-connect-networking-at-what-the-lock-13566
END:VEVENT

END:VCALENDAR
