BEGIN:VCALENDAR
VERSION:2.0
PRODID:-//ChamberMaster//Event Calendar 2.0//EN
METHOD:PUBLISH
X-PUBLISHED-TTL:P3D
REFRESH-INTERVAL:P3D
CALSCALE:GREGORIAN
BEGIN:VEVENT
DTSTART:20230913T220000Z
DTEND:20230914T000000Z
X-MICROSOFT-CDO-ALLDAYEVENT:FALSE
SUMMARY:YP CONNECT: Poolside Cocktails at Village Inn on the Lake
DESCRIPTION:Join Young Professionals of Manitowoc County at the Village Inn on the Lake for a relaxing evening having cocktails by their full service poolside bar. Enjoy an evening of networking and drinks with other young professionals!
X-ALT-DESC;FMTTYPE=text/html:Join Young Professionals of Manitowoc County at the Village Inn on the Lake for a relaxing evening having cocktails by their full service poolside bar. Enjoy an evening of networking and drinks with other young professionals!&nbsp\;&nbsp\;
LOCATION:Village Inn on the Lake 3310 Memorial Dr. Two Rivers
UID:e.361.18945
SEQUENCE:3
DTSTAMP:20260419T130912Z
URL:https://business.chambermanitowoccounty.org/events/details/yp-connect-poolside-cocktails-at-village-inn-on-the-lake-18945
END:VEVENT

END:VCALENDAR
